Workbook
Name Query1: 'PC OWNER_FUEL'!$A$52:$AB$65

Sheet PC FUEL
B3: ITALIA - | C3: Immatricolazioni autovetture per alimentazione / New car registrations by fuel
B4: Elaborazioni dell'Area Studi e Statistiche di ANFIA su dati del MinMinistero delle Infrastrutture e della Mobilità sostenibili (Aut.Min D07161/H4),
B5: successive alla pubblicazione del comunicato stampa (Aggiornamento 30.08.2025)
A7: Volumi | B7: TOTALE 2024 | C7: TOTALE 2025 | D7: Var % 25/24 | E7: 2025-01 | F7: 2025-02 | G7: 2025-03 | H7: 2025-04 | I7: 2025-05 | J7: 2025-06 | K7: 2025-07 | L7: 2025-08 | M7: 2025-09 | N7: 2025-10 | O7: 2025-11 | P7: 2025-12 | Q7: 2026-01 | R7: 2026-02 | S7: 2026-03 | T7: 2026-04 | U7: 2026-05 | V7: 2026-06 | W7: 2026-07 | X7: 2026-08 | Y7: 2026-09 | Z7: 2026-10 | AA7: 2026-11 | AB7: 2026-12 | AC7: Gen-ago 2025 | AD7: Gen-ago 2026 | AE7: Var % ago 26/25 | AF7: Var % 26/25
A8: BENZINA/Petrol | B8: 447451 | C8: ='PC OWNER_FUEL'!C8+'PC OWNER_FUEL'!C53 -> 372039 | D8: =(C8-B8)/B8*100 -> -16.853689 | E8: ='PC OWNER_FUEL'!E8+'PC OWNER_FUEL'!E53 -> 35761 | F8: ='PC OWNER_FUEL'!F8+'PC OWNER_FUEL'!F53 -> 36161 | G8: ='PC OWNER_FUEL'!G8+'PC OWNER_FUEL'!G53 -> 46022 | H8: ='PC OWNER_FUEL'!H8+'PC OWNER_FUEL'!H53 -> 37983 | I8: ='PC OWNER_FUEL'!I8+'PC OWNER_FUEL'!I53 -> 35952 | J8: ='PC OWNER_FUEL'!J8+'PC OWNER_FUEL'!J53 -> 31367 | K8: ='PC OWNER_FUEL'!K8+'PC OWNER_FUEL'!K53 -> 27507 | L8: ='PC OWNER_FUEL'!L8+'PC OWNER_FUEL'!L53 -> 16635 | ... AB8: ='PC OWNER_FUEL'!AB8+'PC OWNER_FUEL'!AB53 -> 0 | AC8: =SUM(E8:L8) -> 267388 | AD8: =SUM(Q8:AB8) -> 222806 | AE8: =X8/L8-1 -> -0.15503457 | AF8: =(AD8-AC8)/AC8 -> -0.16673149
A9: DIESEL | B9: 273866 | C9: ='PC OWNER_FUEL'!C9+'PC OWNER_FUEL'!C54 -> 147281 | D9: =(C9-B9)/B9*100 -> -46.22151 | E9: ='PC OWNER_FUEL'!E9+'PC OWNER_FUEL'!E54 -> 12792 | F9: ='PC OWNER_FUEL'!F9+'PC OWNER_FUEL'!F54 -> 13651 | G9: ='PC OWNER_FUEL'!G9+'PC OWNER_FUEL'!G54 -> 18098 | H9: ='PC OWNER_FUEL'!H9+'PC OWNER_FUEL'!H54 -> 14322 | I9: ='PC OWNER_FUEL'!I9+'PC OWNER_FUEL'!I54 -> 14350 | J9: ='PC OWNER_FUEL'!J9+'PC OWNER_FUEL'!J54 -> 13658 | K9: ='PC OWNER_FUEL'!K9+'PC OWNER_FUEL'!K54 -> 11536 | L9: ='PC OWNER_FUEL'!L9+'PC OWNER_FUEL'!L54 -> 5623 | ... AB9: ='PC OWNER_FUEL'!AB9+'PC OWNER_FUEL'!AB54 -> 0 | AC9: =SUM(E9:L9) -> 104030 | AD9: =SUM(Q9:AB9) -> 76856 | AE9: =X9/L9-1 -> -0.28507914 | AF9: =(AD9-AC9)/AC9 -> -0.26121311
A10: BIODIESEL | B10: 33 | C10: ='PC OWNER_FUEL'!C10+'PC OWNER_FUEL'!C55 -> 136 | D10: - | E10: ='PC OWNER_FUEL'!E10+'PC OWNER_FUEL'!E55 -> 33 | F10: ='PC OWNER_FUEL'!F10+'PC OWNER_FUEL'!F55 -> 35 | G10: ='PC OWNER_FUEL'!G10+'PC OWNER_FUEL'!G55 -> 10 | H10: ='PC OWNER_FUEL'!H10+'PC OWNER_FUEL'!H55 -> 6 | I10: ='PC OWNER_FUEL'!I10+'PC OWNER_FUEL'!I55 -> 7 | J10: ='PC OWNER_FUEL'!J10+'PC OWNER_FUEL'!J55 -> 7 | K10: ='PC OWNER_FUEL'!K10+'PC OWNER_FUEL'!K55 -> 5 | L10: ='PC OWNER_FUEL'!L10+'PC OWNER_FUEL'!L55 -> 3 | ... AB10: ='PC OWNER_FUEL'!AB10+'PC OWNER_FUEL'!AB55 -> 0 | AC10: =SUM(E10:L10) -> 106 | AD10: =SUM(Q10:AB10) -> 16 | AE10: =X10/L10-1 -> -1 | AF10: =(AD10-AC10)/AC10 -> -0.8490566
A11: GAS | B11: 144661 | C11: ='PC OWNER_FUEL'!C11+'PC OWNER_FUEL'!C56 -> 140518 | D11: =(C11-B11)/B11*100 -> -2.8639371 | E11: ='PC OWNER_FUEL'!E11+'PC OWNER_FUEL'!E56 -> 13826 | F11: ='PC OWNER_FUEL'!F11+'PC OWNER_FUEL'!F56 -> 13846 | G11: ='PC OWNER_FUEL'!G11+'PC OWNER_FUEL'!G56 -> 13293 | H11: ='PC OWNER_FUEL'!H11+'PC OWNER_FUEL'!H56 -> 11089 | I11: ='PC OWNER_FUEL'!I11+'PC OWNER_FUEL'!I56 -> 12625 | J11: ='PC OWNER_FUEL'!J11+'PC OWNER_FUEL'!J56 -> 12661 | K11: ='PC OWNER_FUEL'!K11+'PC OWNER_FUEL'!K56 -> 12308 | L11: ='PC OWNER_FUEL'!L11+'PC OWNER_FUEL'!L56 -> 6646 | ... AB11: ='PC OWNER_FUEL'!AB11+'PC OWNER_FUEL'!AB56 -> 0 | AC11: =SUM(E11:L11) -> 96294 | AD11: =SUM(Q11:AB11) -> 78650 | AE11: =X11/L11-1 -> -0.074029491 | AF11: =(AD11-AC11)/AC11 -> -0.18323052
A12: - GPL/LPG | B12: 142764 | C12: ='PC OWNER_FUEL'!C12+'PC OWNER_FUEL'!C57 -> 140518 | D12: =(C12-B12)/B12*100 -> -1.5732257 | E12: ='PC OWNER_FUEL'!E12+'PC OWNER_FUEL'!E57 -> 13826 | F12: ='PC OWNER_FUEL'!F12+'PC OWNER_FUEL'!F57 -> 13846 | G12: ='PC OWNER_FUEL'!G12+'PC OWNER_FUEL'!G57 -> 13293 | H12: ='PC OWNER_FUEL'!H12+'PC OWNER_FUEL'!H57 -> 11089 | I12: ='PC OWNER_FUEL'!I12+'PC OWNER_FUEL'!I57 -> 12625 | J12: ='PC OWNER_FUEL'!J12+'PC OWNER_FUEL'!J57 -> 12661 | K12: ='PC OWNER_FUEL'!K12+'PC OWNER_FUEL'!K57 -> 12308 | L12: ='PC OWNER_FUEL'!L12+'PC OWNER_FUEL'!L57 -> 6646 | ... AB12: ='PC OWNER_FUEL'!AB12+'PC OWNER_FUEL'!AB57 -> 0 | AC12: =SUM(E12:L12) -> 96294 | AD12: =SUM(Q12:AB12) -> 78650 | AE12: =X12/L12-1 -> -0.074029491 | AF12: =(AD12-AC12)/AC12 -> -0.18323052
A13: - METANO/CNG | B13: 1897 | C13: ='PC OWNER_FUEL'!C13+'PC OWNER_FUEL'!C58 -> 0 | D13: =(C13-B13)/B13*100 -> -100 | E13: ='PC OWNER_FUEL'!E13+'PC OWNER_FUEL'!E58 -> 0 | F13: ='PC OWNER_FUEL'!F13+'PC OWNER_FUEL'!F58 -> 0 | G13: ='PC OWNER_FUEL'!G13+'PC OWNER_FUEL'!G58 -> 0 | H13: ='PC OWNER_FUEL'!H13+'PC OWNER_FUEL'!H58 -> 0 | I13: ='PC OWNER_FUEL'!I13+'PC OWNER_FUEL'!I58 -> 0 | J13: ='PC OWNER_FUEL'!J13+'PC OWNER_FUEL'!J58 -> 0 | K13: ='PC OWNER_FUEL'!K13+'PC OWNER_FUEL'!K58 -> 0 | L13: ='PC OWNER_FUEL'!L13+'PC OWNER_FUEL'!L58 -> 0 | ... AB13: ='PC OWNER_FUEL'!AB13+'PC OWNER_FUEL'!AB58 -> 0 | AC13: =SUM(E13:L13) -> 0 | AD13: =SUM(Q13:AB13) -> 0 | AE13: - | AF13: -
A14: IBRIDE mild-full/Hev | B14: 566387 | C14: ='PC OWNER_FUEL'!C14+'PC OWNER_FUEL'!C59 -> 671548 | D14: =(C14-B14)/B14*100 -> 18.566987 | E14: ='PC OWNER_FUEL'!E14+'PC OWNER_FUEL'!E59 -> 59534 | F14: ='PC OWNER_FUEL'!F14+'PC OWNER_FUEL'!F59 -> 61076 | G14: ='PC OWNER_FUEL'!G14+'PC OWNER_FUEL'!G59 -> 77550 | H14: ='PC OWNER_FUEL'!H14+'PC OWNER_FUEL'!H59 -> 60964 | I14: ='PC OWNER_FUEL'!I14+'PC OWNER_FUEL'!I59 -> 60347 | J14: ='PC OWNER_FUEL'!J14+'PC OWNER_FUEL'!J59 -> 57011 | K14: ='PC OWNER_FUEL'!K14+'PC OWNER_FUEL'!K59 -> 52317 | L14: ='PC OWNER_FUEL'!L14+'PC OWNER_FUEL'!L59 -> 30235 | ... AB14: ='PC OWNER_FUEL'!AB14+'PC OWNER_FUEL'!AB59 -> 0 | AC14: =SUM(E14:L14) -> 459034 | AD14: =SUM(Q14:AB14) -> 553262 | AE14: =X14/L14-1 -> 0.06915826 | AF14: =(AD14-AC14)/AC14 -> 0.20527455
A15: - IBRIDA BE/Petrol-Electric | B15: 488673 | C15: ='PC OWNER_FUEL'!C15+'PC OWNER_FUEL'!C60 -> 591061 | D15: =(C15-B15)/B15*100 -> 20.952252 | E15: ='PC OWNER_FUEL'!E15+'PC OWNER_FUEL'!E60 -> 51797 | F15: ='PC OWNER_FUEL'!F15+'PC OWNER_FUEL'!F60 -> 54275 | G15: ='PC OWNER_FUEL'!G15+'PC OWNER_FUEL'!G60 -> 68783 | H15: ='PC OWNER_FUEL'!H15+'PC OWNER_FUEL'!H60 -> 53826 | I15: ='PC OWNER_FUEL'!I15+'PC OWNER_FUEL'!I60 -> 53652 | J15: ='PC OWNER_FUEL'!J15+'PC OWNER_FUEL'!J60 -> 50194 | K15: ='PC OWNER_FUEL'!K15+'PC OWNER_FUEL'!K60 -> 45573 | L15: ='PC OWNER_FUEL'!L15+'PC OWNER_FUEL'!L60 -> 26318 | ... AB15: ='PC OWNER_FUEL'!AB15+'PC OWNER_FUEL'!AB60 -> 0 | AC15: =SUM(E15:L15) -> 404418 | AD15: =SUM(Q15:AB15) -> 500916 | AE15: =X15/L15-1 -> 0.1142944 | AF15: =(AD15-AC15)/AC15 -> 0.23860956
A16: - IBRIDA GE/Diesel-Electric | B16: 77714 | C16: ='PC OWNER_FUEL'!C16+'PC OWNER_FUEL'!C61 -> 79894 | D16: =(C16-B16)/B16*100 -> 2.8051574 | E16: ='PC OWNER_FUEL'!E16+'PC OWNER_FUEL'!E61 -> 7691 | F16: ='PC OWNER_FUEL'!F16+'PC OWNER_FUEL'!F61 -> 6768 | G16: ='PC OWNER_FUEL'!G16+'PC OWNER_FUEL'!G61 -> 8721 | H16: ='PC OWNER_FUEL'!H16+'PC OWNER_FUEL'!H61 -> 7028 | I16: ='PC OWNER_FUEL'!I16+'PC OWNER_FUEL'!I61 -> 6628 | J16: ='PC OWNER_FUEL'!J16+'PC OWNER_FUEL'!J61 -> 6769 | K16: ='PC OWNER_FUEL'!K16+'PC OWNER_FUEL'!K61 -> 6712 | L16: ='PC OWNER_FUEL'!L16+'PC OWNER_FUEL'!L61 -> 3887 | ... AB16: ='PC OWNER_FUEL'!AB16+'PC OWNER_FUEL'!AB61 -> 0 | AC16: =SUM(E16:L16) -> 54204 | AD16: =SUM(Q16:AB16) -> 50051 | AE16: =X16/L16-1 -> -0.30640597 | AF16: =(AD16-AC16)/AC16 -> -0.076617962
A17: - IBRIDA BE-GPL/Petrol-Electric-GPL | B17: 0 | C17: ='PC OWNER_FUEL'!C17+'PC OWNER_FUEL'!C62 -> 593 | D17: - | E17: ='PC OWNER_FUEL'!E17+'PC OWNER_FUEL'!E62 -> 46 | F17: ='PC OWNER_FUEL'!F17+'PC OWNER_FUEL'!F62 -> 33 | G17: ='PC OWNER_FUEL'!G17+'PC OWNER_FUEL'!G62 -> 46 | H17: ='PC OWNER_FUEL'!H17+'PC OWNER_FUEL'!H62 -> 110 | I17: ='PC OWNER_FUEL'!I17+'PC OWNER_FUEL'!I62 -> 67 | J17: ='PC OWNER_FUEL'!J17+'PC OWNER_FUEL'!J62 -> 48 | K17: ='PC OWNER_FUEL'!K17+'PC OWNER_FUEL'!K62 -> 32 | L17: ='PC OWNER_FUEL'!L17+'PC OWNER_FUEL'!L62 -> 30 | ... AB17: ='PC OWNER_FUEL'!AB17+'PC OWNER_FUEL'!AB62 -> 0 | AC17: =SUM(E17:L17) -> 412 | AD17: =SUM(Q17:AB17) -> 2295 | AE17: =X17/L17-1 -> 9.1333333 | AF17: =(AD17-AC17)/AC17 -> 4.5703883
A18: RICARICABILI/Rechargeable | B18: 134751 | C18: ='PC OWNER_FUEL'!C18+'PC OWNER_FUEL'!C63 -> 193133 | D18: =(C18-B18)/B18*100 -> 43.325838 | E18: ='PC OWNER_FUEL'!E18+'PC OWNER_FUEL'!E63 -> 11695 | F18: ='PC OWNER_FUEL'!F18+'PC OWNER_FUEL'!F63 -> 13153 | G18: ='PC OWNER_FUEL'!G18+'PC OWNER_FUEL'!G63 -> 17256 | H18: ='PC OWNER_FUEL'!H18+'PC OWNER_FUEL'!H63 -> 14696 | I18: ='PC OWNER_FUEL'!I18+'PC OWNER_FUEL'!I63 -> 16118 | J18: ='PC OWNER_FUEL'!J18+'PC OWNER_FUEL'!J63 -> 17667 | K18: ='PC OWNER_FUEL'!K18+'PC OWNER_FUEL'!K63 -> 14841 | L18: ='PC OWNER_FUEL'!L18+'PC OWNER_FUEL'!L63 -> 8137 | ... AB18: ='PC OWNER_FUEL'!AB18+'PC OWNER_FUEL'!AB63 -> 0 | AC18: =SUM(E18:L18) -> 113563 | AD18: =SUM(Q18:AB18) -> 197177 | AE18: =X18/L18-1 -> 0.58092663 | AF18: =(AD18-AC18)/AC18 -> 0.73627854
A19: - ELETTRICA/Electric | B19: 66287 | C19: ='PC OWNER_FUEL'!C19+'PC OWNER_FUEL'!C64 -> 94623 | D19: =(C19-B19)/B19*100 -> 42.747447 | E19: ='PC OWNER_FUEL'!E19+'PC OWNER_FUEL'!E64 -> 6698 | F19: ='PC OWNER_FUEL'!F19+'PC OWNER_FUEL'!F64 -> 6918 | G19: ='PC OWNER_FUEL'!G19+'PC OWNER_FUEL'!G64 -> 9367 | H19: ='PC OWNER_FUEL'!H19+'PC OWNER_FUEL'!H64 -> 6639 | I19: ='PC OWNER_FUEL'!I19+'PC OWNER_FUEL'!I64 -> 7118 | J19: ='PC OWNER_FUEL'!J19+'PC OWNER_FUEL'!J64 -> 7970 | K19: ='PC OWNER_FUEL'!K19+'PC OWNER_FUEL'!K64 -> 5849 | L19: ='PC OWNER_FUEL'!L19+'PC OWNER_FUEL'!L64 -> 3297 | ... AB19: ='PC OWNER_FUEL'!AB19+'PC OWNER_FUEL'!AB64 -> 0 | AC19: =SUM(E19:L19) -> 53856 | AD19: =SUM(Q19:AB19) -> 91165 | AE19: =X19/L19-1 -> 0.34485896 | AF19: =(AD19-AC19)/AC19 -> 0.69275475
A20: - PHEV/Plug-in Hybrid | B20: 68464 | C20: ='PC OWNER_FUEL'!C20+'PC OWNER_FUEL'!C65 -> 98510 | D20: =(C20-B20)/B20*100 -> 43.885838 | E20: ='PC OWNER_FUEL'!E20+'PC OWNER_FUEL'!E65 -> 4997 | F20: ='PC OWNER_FUEL'!F20+'PC OWNER_FUEL'!F65 -> 6235 | G20: ='PC OWNER_FUEL'!G20+'PC OWNER_FUEL'!G65 -> 7889 | H20: ='PC OWNER_FUEL'!H20+'PC OWNER_FUEL'!H65 -> 8057 | I20: ='PC OWNER_FUEL'!I20+'PC OWNER_FUEL'!I65 -> 9000 | J20: ='PC OWNER_FUEL'!J20+'PC OWNER_FUEL'!J65 -> 9697 | K20: ='PC OWNER_FUEL'!K20+'PC OWNER_FUEL'!K65 -> 8992 | L20: ='PC OWNER_FUEL'!L20+'PC OWNER_FUEL'!L65 -> 4840 | ... AB20: ='PC OWNER_FUEL'!AB20+'PC OWNER_FUEL'!AB65 -> 0 | AC20: =SUM(E20:L20) -> 59707 | AD20: =SUM(Q20:AB20) -> 106012 | AE20: =X20/L20-1 -> 0.74173554 | AF20: =(AD20-AC20)/AC20 -> 0.77553721
A21: IDROGENO/Hydrogen | B21: 2 | C21: ='PC OWNER_FUEL'!C21+'PC OWNER_FUEL'!C66 -> 1 | D21: =(C21-B21)/B21*100 -> -50 | E21: ='PC OWNER_FUEL'!E21+'PC OWNER_FUEL'!E66 -> 0 | F21: ='PC OWNER_FUEL'!F21+'PC OWNER_FUEL'!F66 -> 0 | G21: ='PC OWNER_FUEL'!G21+'PC OWNER_FUEL'!G66 -> 0 | H21: ='PC OWNER_FUEL'!H21+'PC OWNER_FUEL'!H66 -> 0 | I21: ='PC OWNER_FUEL'!I21+'PC OWNER_FUEL'!I66 -> 1 | J21: ='PC OWNER_FUEL'!J21+'PC OWNER_FUEL'!J66 -> 0 | K21: ='PC OWNER_FUEL'!K21+'PC OWNER_FUEL'!K66 -> 0 | L21: ='PC OWNER_FUEL'!L21+'PC OWNER_FUEL'!L66 -> 0 | ... AB21: ='PC OWNER_FUEL'!AB21+'PC OWNER_FUEL'!AB66 -> 0 | AC21: =SUM(E21:L21) -> 1 | AD21: =SUM(Q21:AB21) -> 1 | AE21: - | AF21: -
A22: TOTALE | B22: 1567151 | C22: ='PC OWNER_FUEL'!C22+'PC OWNER_FUEL'!C67 -> 1524656 | D22: =(C22-B22)/B22*100 -> -2.7116085 | E22: ='PC OWNER_FUEL'!E22+'PC OWNER_FUEL'!E67 -> 133641 | F22: ='PC OWNER_FUEL'!F22+'PC OWNER_FUEL'!F67 -> 137922 | G22: ='PC OWNER_FUEL'!G22+'PC OWNER_FUEL'!G67 -> 172229 | H22: ='PC OWNER_FUEL'!H22+'PC OWNER_FUEL'!H67 -> 139060 | I22: ='PC OWNER_FUEL'!I22+'PC OWNER_FUEL'!I67 -> 139400 | J22: ='PC OWNER_FUEL'!J22+'PC OWNER_FUEL'!J67 -> 132371 | K22: ='PC OWNER_FUEL'!K22+'PC OWNER_FUEL'!K67 -> 118514 | L22: ='PC OWNER_FUEL'!L22+'PC OWNER_FUEL'!L67 -> 67279 | ... AB22: ='PC OWNER_FUEL'!AB22+'PC OWNER_FUEL'!AB67 -> 0 | AC22: =SUM(E22:L22) -> 1040416 | AD22: =SUM(Q22:AB22) -> 1128768 | AE22: =X22/L22-1 -> 0.031822708 | AF22: =(AD22-AC22)/AC22 -> 0.084919878
A24: TOTALE ALIM. ALTERN. | B24: ='PC OWNER_FUEL'!B24+'PC OWNER_FUEL'!B69 -> 887664 | C24: ='PC OWNER_FUEL'!C24+'PC OWNER_FUEL'!C69 -> 1005336 | D24: =(C24-B24)/B24*100 -> 13.256367 | E24: ='PC OWNER_FUEL'!E24+'PC OWNER_FUEL'!E69 -> 85088 | F24: ='PC OWNER_FUEL'!F24+'PC OWNER_FUEL'!F69 -> 88110 | G24: ='PC OWNER_FUEL'!G24+'PC OWNER_FUEL'!G69 -> 108109 | H24: ='PC OWNER_FUEL'!H24+'PC OWNER_FUEL'!H69 -> 86755 | I24: ='PC OWNER_FUEL'!I24+'PC OWNER_FUEL'!I69 -> 89098 | J24: ='PC OWNER_FUEL'!J24+'PC OWNER_FUEL'!J69 -> 87346 | K24: ='PC OWNER_FUEL'!K24+'PC OWNER_FUEL'!K69 -> 79471 | L24: ='PC OWNER_FUEL'!L24+'PC OWNER_FUEL'!L69 -> 45021 | ... AB24: ='PC OWNER_FUEL'!AB24+'PC OWNER_FUEL'!AB69 -> 0 | AC24: =SUM(E24:L24) -> 668998 | AD24: =SUM(Q24:AB24) -> 829106 | AE24: =X24/L24-1 -> 0.14044557 | AF24: =(AD24-AC24)/AC24 -> 0.23932508
A27: Quote % | B27: =B7 -> TOTALE 2024 | C27: =C7 -> TOTALE 2025 | E27: =E7 -> 2025-01 | F27: =F7 -> 2025-02 | G27: =G7 -> 2025-03 | H27: =H7 -> 2025-04 | I27: =I7 -> 2025-05 | J27: =J7 -> 2025-06 | K27: =K7 -> 2025-07 | L27: =L7 -> 2025-08 | ... AD27: =AD7 -> Gen-ago 2026
A28: BENZINA/Petrol | B28: =B8/B$22*100 -> 28.551875 | C28: =C8/C$22*100 -> 24.401504 | E28: =E8/E$22*100 -> 26.759004 | F28: =F8/F$22*100 -> 26.218442 | G28: =G8/G$22*100 -> 26.7214 | H28: =H8/H$22*100 -> 27.314109 | I28: =I8/I$22*100 -> 25.790531 | J28: =J8/J$22*100 -> 23.696278 | K28: =K8/K$22*100 -> 23.209916 | L28: =L8/L$22*100 -> 24.725397 | ... AD28: =AD8/AD$22*100 -> 19.738866
A29: DIESEL | B29: =B9/B$22*100 -> 17.475406 | C29: =C9/C$22*100 -> 9.6599495 | E29: =E9/E$22*100 -> 9.5719128 | F29: =F9/F$22*100 -> 9.8976233 | G29: =G9/G$22*100 -> 10.508103 | H29: =H9/H$22*100 -> 10.299151 | I29: =I9/I$22*100 -> 10.294118 | J29: =J9/J$22*100 -> 10.31797 | K29: =K9/K$22*100 -> 9.7338711 | L29: =L9/L$22*100 -> 8.3577342 | ... AD29: =AD9/AD$22*100 -> 6.8088394
A30: BIODIESEL | B30: =B10/B$22*100 -> 0.002105732 | C30: =C10/C$22*100 -> 0.0089200449 | E30: =E10/E$22*100 -> 0.024693021 | F30: =F10/F$22*100 -> 0.025376662 | G30: =G10/G$22*100 -> 0.0058062231 | H30: =H10/H$22*100 -> 0.0043146843 | I30: =I10/I$22*100 -> 0.0050215208 | J30: =J10/J$22*100 -> 0.0052881673 | K30: =K10/K$22*100 -> 0.0042189108 | L30: =L10/L$22*100 -> 0.0044590437 | ... AD30: =AD10/AD$22*100 -> 0.0014174746
A31: GAS | B31: =B11/B$22*100 -> 9.2308272 | C31: =C11/C$22*100 -> 9.2163741 | E31: =E11/E$22*100 -> 10.345627 | F31: =F11/F$22*100 -> 10.039008 | G31: =G11/G$22*100 -> 7.7182124 | H31: =H11/H$22*100 -> 7.9742557 | I31: =I11/I$22*100 -> 9.0566714 | J31: =J11/J$22*100 -> 9.5647838 | K31: =K11/K$22*100 -> 10.385271 | L31: =L11/L$22*100 -> 9.8782681 | ... AD31: =AD11/AD$22*100 -> 6.9677737
A32: - GPL/LPG | B32: =B12/B$22*100 -> 9.1097795 | C32: =C12/C$22*100 -> 9.2163741 | E32: =E12/E$22*100 -> 10.345627 | F32: =F12/F$22*100 -> 10.039008 | G32: =G12/G$22*100 -> 7.7182124 | H32: =H12/H$22*100 -> 7.9742557 | I32: =I12/I$22*100 -> 9.0566714 | J32: =J12/J$22*100 -> 9.5647838 | K32: =K12/K$22*100 -> 10.385271 | L32: =L12/L$22*100 -> 9.8782681 | ... AD32: =AD12/AD$22*100 -> 6.9677737
A33: - METANO/CNG | B33: =B13/B$22*100 -> 0.12104768 | C33: =C13/C$22*100 -> 0 | E33: =E13/E$22*100 -> 0 | F33: =F13/F$22*100 -> 0 | G33: =G13/G$22*100 -> 0 | H33: =H13/H$22*100 -> 0 | I33: =I13/I$22*100 -> 0 | J33: =J13/J$22*100 -> 0 | K33: =K13/K$22*100 -> 0 | L33: =L13/L$22*100 -> 0 | ... AD33: =AD13/AD$22*100 -> 0
A34: IBRIDE mild-full/Hev | B34: =B14/B$22*100 -> 36.141189 | C34: =C14/C$22*100 -> 44.04587 | E34: =E14/E$22*100 -> 44.547706 | F34: =F14/F$22*100 -> 44.283001 | G34: =G14/G$22*100 -> 45.02726 | H34: =H14/H$22*100 -> 43.840069 | I34: =I14/I$22*100 -> 43.290531 | J34: =J14/J$22*100 -> 43.069101 | K34: =K14/K$22*100 -> 44.144152 | L34: =L14/L$22*100 -> 44.939729 | ... AD34: =AD14/AD$22*100 -> 49.014678
A35: - IBRIDA BE/Petrol-Electric | B35: =B15/B$22*100 -> 31.182254 | C35: =C15/C$22*100 -> 38.766843 | E35: =E15/E$22*100 -> 38.758315 | F35: =F15/F$22*100 -> 39.351953 | G35: =G15/G$22*100 -> 39.936944 | H35: =H15/H$22*100 -> 38.707033 | I35: =I15/I$22*100 -> 38.487805 | J35: =J15/J$22*100 -> 37.919182 | K35: =K15/K$22*100 -> 38.453685 | L35: =L15/L$22*100 -> 39.117704 | ... AD35: =AD15/AD$22*100 -> 44.377233
A36: - IBRIDA GE/Diesel-Electric | B36: =B16/B$22*100 -> 4.958935 | C36: =C16/C$22*100 -> 5.2401329 | E36: =E16/E$22*100 -> 5.7549704 | F36: =F16/F$22*100 -> 4.9071214 | G36: =G16/G$22*100 -> 5.0636072 | H36: =H16/H$22*100 -> 5.0539336 | I36: =I16/I$22*100 -> 4.7546628 | J36: =J16/J$22*100 -> 5.1136578 | K36: =K16/K$22*100 -> 5.6634659 | L36: =L16/L$22*100 -> 5.7774343 | ... AD36: =AD16/AD$22*100 -> 4.4341264
A37: - IBRIDA BE-GPL/Petrol-Electric-GPL | B37: =B17/B$22*100 -> 0 | C37: =C17/C$22*100 -> 0.038894019 | E37: =E17/E$22*100 -> 0.034420575 | F37: =F17/F$22*100 -> 0.023926567 | G37: =G17/G$22*100 -> 0.026708626 | H37: =H17/H$22*100 -> 0.079102546 | I37: =I17/I$22*100 -> 0.048063128 | J37: =J17/J$22*100 -> 0.036261719 | K37: =K17/K$22*100 -> 0.027001029 | L37: =L17/L$22*100 -> 0.044590437 | ... AD37: =AD17/AD$22*100 -> 0.20331902
A38: RICARICABILI/Rechargeable | B38: =B18/B$22*100 -> 8.5984695 | C38: =C18/C$22*100 -> 12.667316 | E38: =E18/E$22*100 -> 8.7510569 | F38: =F18/F$22*100 -> 9.5365496 | G38: =G18/G$22*100 -> 10.019219 | H38: =H18/H$22*100 -> 10.5681 | I38: =I18/I$22*100 -> 11.56241 | J38: =J18/J$22*100 -> 13.346579 | K38: =K18/K$22*100 -> 12.522571 | L38: =L18/L$22*100 -> 12.094413 | ... AD38: =AD18/AD$22*100 -> 17.468337
A39: - ELETTRICA/Electric | B39: =B19/B$22*100 -> 4.2297775 | C39: =C19/C$22*100 -> 6.2061868 | E39: =E19/E$22*100 -> 5.011935 | F39: =F19/F$22*100 -> 5.0158785 | G39: =G19/G$22*100 -> 5.4386892 | H39: =H19/H$22*100 -> 4.7741982 | I39: =I19/I$22*100 -> 5.1061693 | J39: =J19/J$22*100 -> 6.0209563 | K39: =K19/K$22*100 -> 4.9352819 | L39: =L19/L$22*100 -> 4.900489 | ... AD39: =AD19/AD$22*100 -> 8.0765046
... A44: TOTALE ALIM. ALTERN. | B44: =B24/B$22*100 -> 56.641893 | C44: =C24/C$22*100 -> 65.938546 | E44: =E24/E$22*100 -> 63.669084 | F44: =F24/F$22*100 -> 63.883934 | G44: =G24/G$22*100 -> 62.770497 | H44: =H24/H$22*100 -> 62.38674 | I44: =I24/I$22*100 -> 63.915352 | J44: =J24/J$22*100 -> 65.985752 | K44: =K24/K$22*100 -> 67.056213 | L44: =L24/L$22*100 -> 66.916869 | ... AD44: =AD24/AD$22*100 -> 73.452295

Sheet PC SEGMENT
B3: ITALIA - Immatricolazioni autovetture per segmento / New car registrations by segment
B4: Elaborazioni dell'Area Studi e Statistiche di ANFIA su dati del MinMinistero delle Infrastrutture e della Mobilità sostenibili (Aut.Min D07161/H4),
B5: ='PC FUEL'!B5 -> successive alla pubblicazione del comunicato stampa (Aggiornamento 30.08.2025)
A7: Volumi | B7: TOTALE 2024 | C7: TOTALE 2025 | D7: Var % 25/24 | E7: 2025-01 | F7: 2025-02 | G7: 2025-03 | H7: 2025-04 | I7: 2025-05 | J7: 2025-06 | K7: 2025-07 | L7: 2025-08 | M7: 2025-09 | N7: 2025-10 | O7: 2025-11 | P7: 2025-12 | Q7: 2026-01 | R7: 2026-02 | S7: 2026-03 | T7: 2026-04 | U7: 2026-05 | V7: 2026-06 | W7: 2026-07 | X7: 2026-08 | Y7: 2026-09 | Z7: 2026-10 | AA7: 2026-11 | AB7: 2026-12 | AC7: Gen-ago 2025 | AD7: Gen-ago 2026 | AE7: Var % ago 26/25 | AF7: Var % 26/25
A8: Segmenti A-B/A-B Segments | B8: 494952 | C8: =SUM(E8:P8) -> 457029 | D8: =(C8-B8)/B8 -> -0.076619551 | E8: =SUM(E9:E10) -> 46103 | F8: =SUM(F9:F10) -> 45300 | G8: =SUM(G9:G10) -> 52814 | H8: =SUM(H9:H10) -> 42160 | I8: =SUM(I9:I10) -> 38224 | J8: =SUM(J9:J10) -> 36040 | K8: =SUM(K9:K10) -> 34164 | L8: =SUM(L9:L10) -> 19336 | ... AB8: =SUM(AB9:AB10) -> 0 | AC8: =SUM(E8:L8) -> 314141 | AD8: =SUM(Q8:AB8) -> 356212 | AE8: =X8/L8-1 -> 0.10255482 | AF8: =(AD8-AC8)/AC8 -> 0.13392394
A9: - Superutilitarie/Mini | B9: 165583 | C9: =SUM(E9:P9) -> 150114 | D9: =(C9-B9)/B9 -> -0.093421426 | E9: 17978 | F9: 15739 | G9: 16695 | H9: 12211 | I9: 12190 | J9: 12129 | K9: 11388 | L9: 5855 | M9: 10973 | N9: 10330 | O9: 13577 | P9: 11049 | Q9: 17823 | R9: 20129 | S9: 20754 | T9: 16404 | U9: 18481 | V9: 15626 | W9: 11621 | X9: 6554 | AC9: =SUM(E9:L9) -> 104185 | AD9: =SUM(Q9:AB9) -> 127392 | AE9: =X9/L9-1 -> 0.11938514 | AF9: =(AD9-AC9)/AC9 -> 0.222748
A10: - Utilitarie/Small | B10: 329369 | C10: =SUM(E10:P10) -> 306915 | D10: =(C10-B10)/B10 -> -0.068172779 | E10: 28125 | F10: 29561 | G10: 36119 | H10: 29949 | I10: 26034 | J10: 23911 | K10: 22776 | L10: 13481 | M10: 25578 | N10: 25223 | O10: 26310 | P10: 19848 | Q10: 28524 | R10: 31789 | S10: 35629 | T10: 31093 | U10: 30604 | V10: 29149 | W10: 27267 | X10: 14765 | AC10: =SUM(E10:L10) -> 209956 | AD10: =SUM(Q10:AB10) -> 228820 | AE10: =X10/L10-1 -> 0.09524516 | AF10: =(AD10-AC10)/AC10 -> 0.089847397
A11: Segmenti C-D-E/C-D-E Segments | B11: 158291 | C11: =SUM(E11:P11) -> 142605 | D11: =(C11-B11)/B11 -> -0.099095969 | E11: =SUM(E12:E14) -> 11504 | F11: =SUM(F12:F14) -> 12592 | G11: =SUM(G12:G14) -> 17063 | H11: =SUM(H12:H14) -> 13342 | I11: =SUM(I12:I14) -> 12830 | J11: =SUM(J12:J14) -> 13360 | K11: =SUM(K12:K14) -> 9728 | L11: =SUM(L12:L14) -> 5899 | ... AB11: =SUM(AB12:AB14) -> 0 | AC11: =SUM(E11:L11) -> 96318 | AD11: =SUM(Q11:AB11) -> 85020 | AE11: =X11/L11-1 -> -0.10222072 | AF11: =(AD11-AC11)/AC11 -> -0.11729895
A12: - Medio-inferiori/Low-Medium | B12: 99004 | C12: =SUM(E12:P12) -> 91395 | D12: =(C12-B12)/B12 -> -0.076855481 | E12: 7504 | F12: 8274 | G12: 11132 | H12: 9303 | I12: 8838 | J12: 8375 | K12: 6300 | L12: 3756 | M12: 7419 | N12: 7066 | O12: 7067 | P12: 6361 | Q12: 6572 | R12: 7144 | S12: 7875 | T12: 7264 | U12: 6722 | V12: 6714 | W12: 5473 | X12: 3427 | AC12: =SUM(E12:L12) -> 63482 | AD12: =SUM(Q12:AB12) -> 51191 | AE12: =X12/L12-1 -> -0.087593184 | AF12: =(AD12-AC12)/AC12 -> -0.19361394
A13: - Medie/Medium | B13: 49821 | C13: =SUM(E13:P13) -> 41281 | D13: =(C13-B13)/B13 -> -0.17141366 | E13: 2994 | F13: 3466 | G13: 4979 | H13: 3303 | I13: 3121 | J13: 3864 | K13: 2701 | L13: 1701 | M13: 3582 | N13: 3029 | O13: 4031 | P13: 4510 | Q13: 2754 | R13: 3711 | S13: 5071 | T13: 3156 | U13: 3320 | V13: 4850 | W13: 2752 | X13: 1544 | AC13: =SUM(E13:L13) -> 26129 | AD13: =SUM(Q13:AB13) -> 27158 | AE13: =X13/L13-1 -> -0.092298648 | AF13: =(AD13-AC13)/AC13 -> 0.03938153
A14: - Medio-superiori/Upper Medium | B14: 9466 | C14: =SUM(E14:P14) -> 9929 | D14: =(C14-B14)/B14 -> 0.048911895 | E14: 1006 | F14: 852 | G14: 952 | H14: 736 | I14: 871 | J14: 1121 | K14: 727 | L14: 442 | M14: 747 | N14: 753 | O14: 914 | P14: 808 | Q14: 804 | R14: 836 | S14: 1234 | T14: 1035 | U14: 949 | V14: 856 | W14: 632 | X14: 325 | AC14: =SUM(E14:L14) -> 6707 | AD14: =SUM(Q14:AB14) -> 6671 | AE14: =X14/L14-1 -> -0.26470588 | AF14: =(AD14-AC14)/AC14 -> -0.0053675265
A15: SUV | B15: 858154 | C15: =SUM(E15:P15) -> 878189 | D15: =(C15-B15)/B15 -> 0.023346625 | E15: =SUM(E16:E17) -> 72059 | F15: =SUM(F16:F17) -> 76095 | G15: =SUM(G16:G17) -> 97123 | H15: =SUM(H16:H17) -> 78469 | I15: =SUM(I16:I17) -> 83301 | J15: =SUM(J16:J17) -> 78155 | K15: =SUM(K16:K17) -> 70154 | L15: =SUM(L16:L17) -> 39983 | ... AB15: =SUM(AB16:AB17) -> 0 | AC15: =SUM(E15:L15) -> 595339 | AD15: =SUM(Q15:AB15) -> 656112 | AE15: =X15/L15-1 -> 0.023184854 | AF15: =(AD15-AC15)/AC15 -> 0.10208134
A16: - SUV piccoli-compatti/small-compact SUV | B16: 627260 | C16: =SUM(E16:P16) -> 609786 | D16: =(C16-B16)/B16 -> -0.027857667 | E16: 51289 | F16: 55531 | G16: 68539 | H16: 54927 | I16: 58942 | J16: 53386 | K16: 48107 | L16: 27814 | M16: 50064 | N16: 52958 | O16: 47943 | P16: 40286 | Q16: 51407 | R16: 60226 | S16: 72765 | T16: 59855 | U16: 56448 | V16: 53542 | W16: 46034 | X16: 25414 | AC16: =SUM(E16:L16) -> 418535 | AD16: =SUM(Q16:AB16) -> 425691 | AE16: =X16/L16-1 -> -0.086287481 | AF16: =(AD16-AC16)/AC16 -> 0.017097734
A17: - SUV medi-grandi/mid-size-large SUV | B17: 230894 | C17: =SUM(E17:P17) -> 268403 | D17: =(C17-B17)/B17 -> 0.16245117 | E17: 20770 | F17: 20564 | G17: 28584 | H17: 23542 | I17: 24359 | J17: 24769 | K17: 22047 | L17: 12169 | M17: 24832 | N17: 22862 | O17: 21528 | P17: 22377 | Q17: 29817 | R17: 29958 | S17: 37067 | T17: 32036 | U17: 29438 | V17: 31283 | W17: 25326 | X17: 15496 | AC17: =SUM(E17:L17) -> 176804 | AD17: =SUM(Q17:AB17) -> 230421 | AE17: =X17/L17-1 -> 0.27339962 | AF17: =(AD17-AC17)/AC17 -> 0.30325671
A18: Monovolumi-multispazio/MPV-multivan | B18: 28419 | C18: =SUM(E18:P18) -> 25892 | D18: =(C18-B18)/B18 -> -0.088919385 | E18: 2413 | F18: 2388 | G18: 3174 | H18: 3064 | I18: 2889 | J18: 2614 | K18: 2495 | L18: 1241 | M18: 1700 | N18: 1421 | O18: 1213 | P18: 1280 | Q18: 2668 | R18: 1887 | S18: 2420 | T18: 2188 | U18: 2078 | V18: 2259 | W18: 2099 | X18: 1155 | AC18: =SUM(E18:L18) -> 20278 | AD18: =SUM(Q18:AB18) -> 16754 | AE18: =X18/L18-1 -> -0.069298952 | AF18: =(AD18-AC18)/AC18 -> -0.1737844
A19: Lusso/Luxury | B19: 2812 | C19: =SUM(E19:P19) -> 2520 | D19: =(C19-B19)/B19 -> -0.10384068 | E19: 300 | F19: 220 | G19: 286 | H19: 178 | I19: 267 | J19: 252 | K19: 214 | L19: 76 | M19: 207 | N19: 188 | O19: 163 | P19: 169 | Q19: 144 | R19: 160 | S19: 217 | T19: 192 | U19: 195 | V19: 343 | W19: 221 | X19: 77 | AC19: =SUM(E19:L19) -> 1793 | AD19: =SUM(Q19:AB19) -> 1549 | AE19: =X19/L19-1 -> 0.013157895 | AF19: =(AD19-AC19)/AC19 -> -0.13608477
A20: Sportive/Sports | B20: 5143 | C20: =SUM(E20:P20) -> 5601 | D20: =(C20-B20)/B20 -> 0.089053082 | E20: 395 | F20: 369 | G20: 502 | H20: 452 | I20: 523 | J20: 671 | K20: 615 | L20: 239 | M20: 431 | N20: 451 | O20: 488 | P20: 465 | Q20: 545 | R20: 471 | S20: 835 | T20: 538 | U20: 534 | V20: 536 | W20: 543 | X20: 249 | AC20: =SUM(E20:L20) -> 3766 | AD20: =SUM(Q20:AB20) -> 4251 | AE20: =X20/L20-1 -> 0.041841004 | AF20: =(AD20-AC20)/AC20 -> 0.12878386
A21: Combi | B21: 10300 | C21: =SUM(E21:P21) -> 12820 | D21: =(C21-B21)/B21 -> 0.24466019 | E21: 867 | F21: 958 | G21: 1267 | H21: 1395 | I21: 1366 | J21: 1279 | K21: 1144 | L21: 505 | M21: 1205 | N21: 1113 | O21: 782 | P21: 939 | Q21: 918 | R21: 1016 | S21: 1286 | T21: 1417 | U21: 1283 | V21: 1347 | W21: 1189 | X21: 414 | AC21: =SUM(E21:L21) -> 8781 | AD21: =SUM(Q21:AB21) -> 8870 | AE21: =X21/L21-1 -> -0.18019802 | AF21: =(AD21-AC21)/AC21 -> 0.01013552
A22: TOTALE | B22: 1558071 | C22: =SUM(E22:P22) -> 1524656 | D22: =(C22-B22)/B22 -> -0.021446391 | E22: =E20+E19+E21+E18+E15+E11+E8 -> 133641 | F22: =F20+F19+F21+F18+F15+F11+F8 -> 137922 | G22: =G20+G19+G21+G18+G15+G11+G8 -> 172229 | H22: =H20+H19+H21+H18+H15+H11+H8 -> 139060 | I22: =I20+I19+I21+I18+I15+I11+I8 -> 139400 | J22: =J20+J19+J21+J18+J15+J11+J8 -> 132371 | K22: =K20+K19+K21+K18+K15+K11+K8 -> 118514 | L22: =L20+L19+L21+L18+L15+L11+L8 -> 67279 | ... AB22: =AB20+AB19+AB21+AB18+AB15+AB11+AB8 -> 0 | AC22: =SUM(E22:L22) -> 1040416 | AD22: =SUM(Q22:AB22) -> 1128768 | AE22: =X22/L22-1 -> 0.031822708 | AF22: =(AD22-AC22)/AC22 -> 0.084919878
A26: Quote % | B26: =B7 -> TOTALE 2024 | C26: =C7 -> TOTALE 2025 | E26: =E7 -> 2025-01 | F26: =F7 -> 2025-02 | G26: =G7 -> 2025-03 | H26: =H7 -> 2025-04 | I26: =I7 -> 2025-05 | J26: =J7 -> 2025-06 | K26: =K7 -> 2025-07 | L26: =L7 -> 2025-08 | ... AD26: =AD7 -> Gen-ago 2026
A27: Segmenti A-B/A-B Segments | B27: =B8/B$22*100 -> 31.766973 | C27: =C8/C$22*100 -> 29.975877 | E27: =E8/E$22*100 -> 34.497647 | F27: =F8/F$22*100 -> 32.844651 | G27: =G8/G$22*100 -> 30.664987 | H27: =H8/H$22*100 -> 30.317848 | I27: =I8/I$22*100 -> 27.420373 | J27: =J8/J$22*100 -> 27.226507 | K27: =K8/K$22*100 -> 28.826974 | L27: =L8/L$22*100 -> 28.740023 | ... AD27: =AD8/AD$22*100 -> 31.557592
A28: - Superutilitarie/Mini | B28: =B9/B$22*100 -> 10.627436 | C28: =C9/C$22*100 -> 9.8457619 | E28: =E9/E$22*100 -> 13.452458 | F28: =F9/F$22*100 -> 11.411522 | G28: =G9/G$22*100 -> 9.6934895 | H28: =H9/H$22*100 -> 8.7811017 | I28: =I9/I$22*100 -> 8.7446198 | J28: =J9/J$22*100 -> 9.1628831 | K28: =K9/K$22*100 -> 9.6089913 | L28: =L9/L$22*100 -> 8.7025669 | ... AD28: =AD9/AD$22*100 -> 11.285933
A29: - Utilitarie/Small | B29: =B10/B$22*100 -> 21.139537 | C29: =C10/C$22*100 -> 20.130115 | E29: =E10/E$22*100 -> 21.045188 | F29: =F10/F$22*100 -> 21.433129 | G29: =G10/G$22*100 -> 20.971497 | H29: =H10/H$22*100 -> 21.536747 | I29: =I10/I$22*100 -> 18.675753 | J29: =J10/J$22*100 -> 18.063624 | K29: =K10/K$22*100 -> 19.217983 | L29: =L10/L$22*100 -> 20.037456 | ... AD29: =AD10/AD$22*100 -> 20.271659
A30: Segmenti C-D-E/C-D-E Segments | B30: =B11/B$22*100 -> 10.159421 | C30: =C11/C$22*100 -> 9.3532574 | E30: =E11/E$22*100 -> 8.6081367 | F30: =F11/F$22*100 -> 9.129798 | G30: =G11/G$22*100 -> 9.9071585 | H30: =H11/H$22*100 -> 9.5944197 | I30: =I11/I$22*100 -> 9.2037303 | J30: =J11/J$22*100 -> 10.092845 | K30: =K11/K$22*100 -> 8.2083129 | L30: =L11/L$22*100 -> 8.7679662 | ... AD30: =AD11/AD$22*100 -> 7.5321058
A31: - Medio-inferiori/Low-Medium | B31: =B12/B$22*100 -> 6.3542676 | C31: =C12/C$22*100 -> 5.9944669 | E31: =E12/E$22*100 -> 5.6150433 | F31: =F12/F$22*100 -> 5.9990429 | G31: =G12/G$22*100 -> 6.4634876 | H31: =H12/H$22*100 -> 6.689918 | I31: =I12/I$22*100 -> 6.3400287 | J31: =J12/J$22*100 -> 6.3269145 | K31: =K12/K$22*100 -> 5.3158277 | L31: =L12/L$22*100 -> 5.5827227 | ... AD31: =AD12/AD$22*100 -> 4.5351215
A32: - Medie/Medium | B32: =B13/B$22*100 -> 3.1976078 | C32: =C13/C$22*100 -> 2.7075616 | E32: =E13/E$22*100 -> 2.2403304 | F32: =F13/F$22*100 -> 2.5130146 | G32: =G13/G$22*100 -> 2.8909185 | H32: =H13/H$22*100 -> 2.3752337 | I32: =I13/I$22*100 -> 2.2388809 | J32: =J13/J$22*100 -> 2.9190684 | K32: =K13/K$22*100 -> 2.2790556 | L32: =L13/L$22*100 -> 2.5282778 | ... AD32: =AD13/AD$22*100 -> 2.405986
A33: - Medio-superiori/Upper Medium | B33: =B14/B$22*100 -> 0.60754613 | C33: =C14/C$22*100 -> 0.65122887 | E33: =E14/E$22*100 -> 0.752763 | F33: =F14/F$22*100 -> 0.61774046 | G33: =G14/G$22*100 -> 0.55275244 | H33: =H14/H$22*100 -> 0.52926794 | I33: =I14/I$22*100 -> 0.62482066 | J33: =J14/J$22*100 -> 0.84686223 | K33: =K14/K$22*100 -> 0.61342964 | L33: =L14/L$22*100 -> 0.65696577 | ... AD33: =AD14/AD$22*100 -> 0.59099833
A34: SUV | B34: =B15/B$22*100 -> 55.077978 | C34: =C15/C$22*100 -> 57.599157 | E34: =E15/E$22*100 -> 53.91983 | F34: =F15/F$22*100 -> 55.172489 | G34: =G15/G$22*100 -> 56.391781 | H34: =H15/H$22*100 -> 56.428161 | I34: =I15/I$22*100 -> 59.756815 | J34: =J15/J$22*100 -> 59.042388 | K34: =K15/K$22*100 -> 59.194694 | L34: =L15/L$22*100 -> 59.428648 | ... AD34: =AD15/AD$22*100 -> 58.126382
A35: - SUV piccoli-compatti/small-compact SUV | B35: =B16/B$22*100 -> 40.258756 | C35: =C16/C$22*100 -> 39.994989 | E35: =E16/E$22*100 -> 38.378192 | F35: =F16/F$22*100 -> 40.262612 | G35: =G16/G$22*100 -> 39.795273 | H35: =H16/H$22*100 -> 39.498778 | I35: =I16/I$22*100 -> 42.28264 | J35: =J16/J$22*100 -> 40.330586 | K35: =K16/K$22*100 -> 40.591829 | L35: =L16/L$22*100 -> 41.34128 | ... AD35: =AD16/AD$22*100 -> 37.712887
A36: - SUV medi-grandi/mid-size-large SUV | B36: =B17/B$22*100 -> 14.819222 | C36: =C17/C$22*100 -> 17.604168 | E36: =E17/E$22*100 -> 15.541638 | F36: =F17/F$22*100 -> 14.909877 | G36: =G17/G$22*100 -> 16.596508 | H36: =H17/H$22*100 -> 16.929383 | I36: =I17/I$22*100 -> 17.474175 | J36: =J17/J$22*100 -> 18.711802 | K36: =K17/K$22*100 -> 18.602865 | L36: =L17/L$22*100 -> 18.087368 | ... AD36: =AD17/AD$22*100 -> 20.413495
A37: Monovolumi-multispazio/MPV-multivan | B37: =B18/B$22*100 -> 1.8239862 | C37: =C18/C$22*100 -> 1.6982191 | E37: =E18/E$22*100 -> 1.8055836 | F37: =F18/F$22*100 -> 1.7314134 | G37: =G18/G$22*100 -> 1.8428952 | H37: =H18/H$22*100 -> 2.2033655 | I37: =I18/I$22*100 -> 2.0724534 | J37: =J18/J$22*100 -> 1.9747528 | K37: =K18/K$22*100 -> 2.1052365 | L37: =L18/L$22*100 -> 1.8445577 | ... AD37: =AD18/AD$22*100 -> 1.4842731
A38: Combi | B38: =B21/B$22*100 -> 0.66107385 | C38: =C21/C$22*100 -> 0.84084541 | E38: =E21/E$22*100 -> 0.648753 | F38: =F21/F$22*100 -> 0.6945955 | G38: =G21/G$22*100 -> 0.73564847 | H38: =H21/H$22*100 -> 1.0031641 | I38: =I21/I$22*100 -> 0.97991392 | J38: =J21/J$22*100 -> 0.96622372 | K38: =K21/K$22*100 -> 0.9652868 | L38: =L21/L$22*100 -> 0.75060569 | ... AD38: =AD21/AD$22*100 -> 0.7858125
A39: Lusso/Luxury | B39: =B19/B$22*100 -> 0.18047958 | C39: =C19/C$22*100 -> 0.16528319 | E39: =E19/E$22*100 -> 0.22448201 | F39: =F19/F$22*100 -> 0.15951045 | G39: =G19/G$22*100 -> 0.16605798 | H39: =H19/H$22*100 -> 0.1280023 | I39: =I19/I$22*100 -> 0.19153515 | J39: =J19/J$22*100 -> 0.19037402 | K39: =K19/K$22*100 -> 0.18056938 | L39: =L19/L$22*100 -> 0.11296244 | ... AD39: =AD19/AD$22*100 -> 0.13722926
A40: Sportive/Sports | B40: =B20/B$22*100 -> 0.33008765 | C40: =C20/C$22*100 -> 0.36736156 | E40: =E20/E$22*100 -> 0.29556798 | F40: =F20/F$22*100 -> 0.26754252 | G40: =G20/G$22*100 -> 0.2914724 | H40: =H20/H$22*100 -> 0.32503955 | I40: =I20/I$22*100 -> 0.37517934 | J40: =J20/J$22*100 -> 0.50690861 | K40: =K20/K$22*100 -> 0.51892603 | L40: =L20/L$22*100 -> 0.35523715 | ... AD40: =AD20/AD$22*100 -> 0.37660529
A41: TOTALE | B41: =B22/B$22*100 -> 100 | C41: =C22/C$22*100 -> 100 | E41: =E22/E$22*100 -> 100 | F41: =F22/F$22*100 -> 100 | G41: =G22/G$22*100 -> 100 | H41: =H22/H$22*100 -> 100 | I41: =I22/I$22*100 -> 100 | J41: =J22/J$22*100 -> 100 | K41: =K22/K$22*100 -> 100 | L41: =L22/L$22*100 -> 100 | ... AD41: =AD22/AD$22*100 -> 100

Sheet PC OWNER
B3: ITALIA - Immatricolazioni autovetture per modalità d'acquisto / New car registrations by owner
B4: Elaborazioni dell'Area Studi e Statistiche di ANFIA su dati del MinMinistero delle Infrastrutture e della Mobilità sostenibili (Aut.Min D07161/H4),
B5: ='PC FUEL'!B5 -> successive alla pubblicazione del comunicato stampa (Aggiornamento 30.08.2025)
A7: Volumi | B7: TOTALE 2024 | C7: TOTALE 2025 | D7: Var % 25/24 | E7: 2025-01 | F7: 2025-02 | G7: 2025-03 | H7: 2025-04 | I7: 2025-05 | J7: 2025-06 | K7: 2025-07 | L7: 2025-08 | M7: 2025-09 | N7: 2025-10 | O7: 2025-11 | P7: 2025-12 | Q7: 2026-01 | R7: 2026-02 | S7: 2026-03 | T7: 2026-04 | U7: 2026-05 | V7: 2026-06 | W7: 2026-07 | X7: 2026-08 | Y7: 2026-09 | Z7: 2026-10 | AA7: 2026-11 | AB7: 2026-12 | AC7: Gen-ago 2025 | AD7: Gen-ago 2026 | AE7: Var % ago 26/25 | AF7: Var % 26/25
A8: Privati proprietari/Private owner | B8: 875556 | C8: =SUM(E8:P8) -> 792874 | D8: =(C8-B8)/B8 -> -0.094433708 | E8: 81938 | F8: 72503 | G8: 77298 | H8: 63153 | I8: 66515 | J8: 64714 | K8: 64532 | L8: 35881 | M8: 68632 | N8: 69448 | O8: 69416 | P8: 58844 | Q8: 78895 | R8: 80047 | S8: 92141 | T8: 75916 | U8: 77628 | V8: 76484 | W8: 69093 | X8: 37024 | AC8: =SUM(E8:L8) -> 526534 | AD8: =SUM(Q8:AB8) -> 587228 | AE8: =X8/L8-1 -> 0.031855299 | AF8: =(AD8-AC8)/AC8 -> 0.11527081
A9: Società (Business, Noleggio, Leasing, Taxi, Altro) | B9: 682515 | C9: =SUM(E9:P9) -> 731782 | D9: =(C9-B9)/B9 -> 0.072184494 | E9: =SUM(E10:E15) -> 51703 | F9: =SUM(F10:F15) -> 65419 | G9: =SUM(G10:G15) -> 94931 | H9: =SUM(H10:H15) -> 75907 | I9: =SUM(I10:I15) -> 72885 | J9: =SUM(J10:J15) -> 67657 | K9: =SUM(K10:K15) -> 53982 | L9: =SUM(L10:L15) -> 31398 | ... AB9: =SUM(AB10:AB15) -> 0 | AC9: =SUM(E9:L9) -> 513882 | AD9: =SUM(Q9:AB9) -> 541540 | AE9: =X9/L9-1 -> 0.031785464 | AF9: =(AD9-AC9)/AC9 -> 0.053821694
A10: - Leasing persone fisiche/Leasing private | B10: 32821 | C10: =SUM(E10:P10) -> 30229 | D10: =(C10-B10)/B10 -> -0.078973828 | E10: 2519 | F10: 2661 | G10: 3228 | H10: 2267 | I10: 2641 | J10: 2743 | K10: 2655 | L10: 1327 | M10: 2553 | N10: 2693 | O10: 2386 | P10: 2556 | Q10: 2324 | R10: 2341 | S10: 3048 | T10: 2336 | U10: 2439 | V10: 2712 | W10: 2193 | X10: 1102 | AC10: =SUM(E10:L10) -> 20041 | AD10: =SUM(Q10:AB10) -> 18495 | AE10: =X10/L10-1 -> -0.16955539 | AF10: =(AD10-AC10)/AC10 -> -0.077141859
A11: - Società proprietarie/Business | B11: 216045 | C11: =SUM(E11:P11) -> 215061 | D11: =(C11-B11)/B11 -> -0.0045546067 | E11: 14644 | F11: 15739 | G11: 17948 | H11: 17428 | I11: 20214 | J11: 21958 | K11: 19916 | L11: 12780 | M11: 19584 | N11: 20226 | O11: 19730 | P11: 14894 | Q11: 16523 | R11: 17364 | S11: 19677 | T11: 18979 | U11: 18946 | V11: 19689 | W11: 20221 | X11: 11677 | AC11: =SUM(E11:L11) -> 140627 | AD11: =SUM(Q11:AB11) -> 143076 | AE11: =X11/L11-1 -> -0.086306729 | AF11: =(AD11-AC11)/AC11 -> 0.017414863
A12: - Leasing persone giuridiche/Leasing business | B12: 29471 | C12: =SUM(E12:P12) -> 29714 | D12: =(C12-B12)/B12 -> 0.0082453938 | E12: 2280 | F12: 2599 | G12: 3033 | H12: 2346 | I12: 2667 | J12: 2766 | K12: 2858 | L12: 1238 | M12: 2478 | N12: 2510 | O12: 2399 | P12: 2540 | Q12: 2325 | R12: 2392 | S12: 2935 | T12: 2606 | U12: 2582 | V12: 2705 | W12: 2581 | X12: 1188 | AC12: =SUM(E12:L12) -> 19787 | AD12: =SUM(Q12:AB12) -> 19314 | AE12: =X12/L12-1 -> -0.040387722 | AF12: =(AD12-AC12)/AC12 -> -0.023904584
A13: - Noleggio/Renting | B13: 399136 | C13: =SUM(E13:P13) -> 452495 | D13: =(C13-B13)/B13 -> 0.13368626 | E13: 31888 | F13: 43956 | G13: 70108 | H13: 53431 | I13: 46973 | J13: 39826 | K13: 28143 | L13: 15918 | M13: 33180 | N13: 30212 | O13: 29850 | P13: 29010 | Q13: 41475 | R13: 54838 | S13: 66851 | T13: 55027 | U13: 48116 | V13: 44614 | W13: 28721 | X13: 18311 | AC13: =SUM(E13:L13) -> 330243 | AD13: =SUM(Q13:AB13) -> 357953 | AE13: =X13/L13-1 -> 0.15033296 | AF13: =(AD13-AC13)/AC13 -> 0.08390791
A14: - Taxi | B14: 4634 | C14: =SUM(E14:P14) -> 3888 | D14: =(C14-B14)/B14 -> -0.16098403 | E14: 369 | F14: 457 | G14: 547 | H14: 417 | I14: 343 | J14: 327 | K14: 333 | L14: 120 | M14: 236 | N14: 284 | O14: 226 | P14: 229 | Q14: 412 | R14: 312 | S14: 446 | T14: 305 | U14: 329 | V14: 261 | W14: 318 | X14: 105 | AC14: =SUM(E14:L14) -> 2913 | AD14: =SUM(Q14:AB14) -> 2488 | AE14: =X14/L14-1 -> -0.125 | AF14: =(AD14-AC14)/AC14 -> -0.1458977
A15: - Altri/Others | B15: 408 | C15: =SUM(E15:P15) -> 395 | D15: =(C15-B15)/B15 -> -0.031862745 | E15: 3 | F15: 7 | G15: 67 | H15: 18 | I15: 47 | J15: 37 | K15: 77 | L15: 15 | M15: 75 | N15: 21 | O15: 9 | P15: 19 | Q15: 22 | R15: 33 | S15: 55 | T15: 9 | U15: 12 | V15: 40 | W15: 30 | X15: 13 | AC15: =SUM(E15:L15) -> 271 | AD15: =SUM(Q15:AB15) -> 214 | AE15: =X15/L15-1 -> -0.13333333 | AF15: =(AD15-AC15)/AC15 -> -0.2103321
A16: TOTALE | B16: 1558071 | C16: =SUM(E16:P16) -> 1524656 | D16: =(C16-B16)/B16 -> -0.021446391 | E16: =SUM(E8:E9) -> 133641 | F16: =SUM(F8:F9) -> 137922 | G16: =SUM(G8:G9) -> 172229 | H16: =SUM(H8:H9) -> 139060 | I16: =SUM(I8:I9) -> 139400 | J16: =SUM(J8:J9) -> 132371 | K16: =SUM(K8:K9) -> 118514 | L16: =SUM(L8:L9) -> 67279 | ... AB16: =SUM(AB8:AB9) -> 0 | AC16: =SUM(E16:L16) -> 1040416 | AD16: =SUM(Q16:AB16) -> 1128768 | AE16: =X16/L16-1 -> 0.031822708 | AF16: =(AD16-AC16)/AC16 -> 0.084919878
A18: Quote % | B18: =B7 -> TOTALE 2024 | C18: =C7 -> TOTALE 2025 | E18: =E7 -> 2025-01 | F18: =F7 -> 2025-02 | G18: =G7 -> 2025-03 | H18: =H7 -> 2025-04 | I18: =I7 -> 2025-05 | J18: =J7 -> 2025-06 | K18: =K7 -> 2025-07 | L18: =L7 -> 2025-08 | ... AD18: =AD7 -> Gen-ago 2026
A19: Privati proprietari/Private owner | B19: =B8/B$16*100 -> 56.194872 | C19: =C8/C$16*100 -> 52.003468 | E19: =E8/E$16*100 -> 61.312023 | F19: =F8/F$16*100 -> 52.568118 | G19: =G8/G$16*100 -> 44.880943 | H19: =H8/H$16*100 -> 45.41421 | I19: =I8/I$16*100 -> 47.715208 | J19: =J8/J$16*100 -> 48.888352 | K19: =K8/K$16*100 -> 54.450951 | L19: =L8/L$16*100 -> 53.331649 | ... AD19: =AD8/AD$16*100 -> 52.023799
A20: Società (Business, Noleggio, Leasing, Taxi, Altro) | B20: =B9/B$16*100 -> 43.805128 | C20: =C9/C$16*100 -> 47.996532 | E20: =E9/E$16*100 -> 38.687977 | F20: =F9/F$16*100 -> 47.431882 | G20: =G9/G$16*100 -> 55.119057 | H20: =H9/H$16*100 -> 54.58579 | I20: =I9/I$16*100 -> 52.284792 | J20: =J9/J$16*100 -> 51.111648 | K20: =K9/K$16*100 -> 45.549049 | L20: =L9/L$16*100 -> 46.668351 | ... AD20: =AD9/AD$16*100 -> 47.976201
A21: - Leasing persone fisiche/Leasing private | B21: =B10/B$16*100 -> 2.106515 | C21: =C10/C$16*100 -> 1.9826767 | E21: =E10/E$16*100 -> 1.8849006 | F21: =F10/F$16*100 -> 1.9293514 | G21: =G10/G$16*100 -> 1.8742488 | H21: =H10/H$16*100 -> 1.6302316 | I21: =I10/I$16*100 -> 1.8945481 | J21: =J10/J$16*100 -> 2.0722061 | K21: =K10/K$16*100 -> 2.2402417 | L21: =L10/L$16*100 -> 1.9723837 | ... AD21: =AD10/AD$16*100 -> 1.6385121
A22: - Società proprietarie/Business | B22: =B11/B$16*100 -> 13.866185 | C22: =C11/C$16*100 -> 14.105542 | E22: =E11/E$16*100 -> 10.957715 | F22: =F11/F$16*100 -> 11.411522 | G22: =G11/G$16*100 -> 10.421009 | H22: =H11/H$16*100 -> 12.53272 | I22: =I11/I$16*100 -> 14.500717 | J22: =J11/J$16*100 -> 16.588226 | K22: =K11/K$16*100 -> 16.804766 | L22: =L11/L$16*100 -> 18.995526 | ... AD22: =AD11/AD$16*100 -> 12.675412
A23: - Leasing persone giuridiche/Leasing business | B23: =B12/B$16*100 -> 1.8915056 | C23: =C12/C$16*100 -> 1.9488986 | E23: =E12/E$16*100 -> 1.7060633 | F23: =F12/F$16*100 -> 1.8843984 | G23: =G12/G$16*100 -> 1.7610275 | H23: =H12/H$16*100 -> 1.6870416 | I23: =I12/I$16*100 -> 1.9131994 | J23: =J12/J$16*100 -> 2.0895816 | K23: =K12/K$16*100 -> 2.4115294 | L23: =L12/L$16*100 -> 1.8400987 | ... AD23: =AD12/AD$16*100 -> 1.7110691
A24: - Noleggio/Renting | B24: =B13/B$16*100 -> 25.617318 | C24: =C13/C$16*100 -> 29.678498 | E24: =E13/E$16*100 -> 23.860941 | F24: =F13/F$16*100 -> 31.870187 | G24: =G13/G$16*100 -> 40.706269 | H24: =H13/H$16*100 -> 38.422983 | I24: =I13/I$16*100 -> 33.696557 | J24: =J13/J$16*100 -> 30.08665 | K24: =K13/K$16*100 -> 23.746562 | L24: =L13/L$16*100 -> 23.659686 | ... AD24: =AD13/AD$16*100 -> 31.711831
A25: - Taxi | B25: =B14/B$16*100 -> 0.29741905 | C25: =C14/C$16*100 -> 0.25500834 | E25: =E14/E$16*100 -> 0.27611287 | F25: =F14/F$16*100 -> 0.3313467 | G25: =G14/G$16*100 -> 0.3176004 | H25: =H14/H$16*100 -> 0.29987056 | I25: =I14/I$16*100 -> 0.24605452 | J25: =J14/J$16*100 -> 0.24703296 | K25: =K14/K$16*100 -> 0.28097946 | L25: =L14/L$16*100 -> 0.17836175 | ... AD25: =AD14/AD$16*100 -> 0.2204173
A26: - Altri/Others | B26: =B15/B$16*100 -> 0.026186226 | C26: =C15/C$16*100 -> 0.025907483 | E26: =E15/E$16*100 -> 0.0022448201 | F26: =F15/F$16*100 -> 0.0050753324 | G26: =G15/G$16*100 -> 0.038901695 | H26: =H15/H$16*100 -> 0.012944053 | I26: =I15/I$16*100 -> 0.033715925 | J26: =J15/J$16*100 -> 0.027951742 | K26: =K15/K$16*100 -> 0.064971227 | L26: =L15/L$16*100 -> 0.022295218 | ... AD26: =AD15/AD$16*100 -> 0.018958723
A27: TOTALE | B27: =B16/B$16*100 -> 100 | C27: =C16/C$16*100 -> 100 | E27: =E16/E$16*100 -> 100 | F27: =F16/F$16*100 -> 100 | G27: =G16/G$16*100 -> 100 | H27: =H16/H$16*100 -> 100 | I27: =I16/I$16*100 -> 100 | J27: =J16/J$16*100 -> 100 | K27: =K16/K$16*100 -> 100 | L27: =L16/L$16*100 -> 100 | ... AD27: =AD16/AD$16*100 -> 100

Sheet PC REGION
B3: ITALIA - Immatricolazioni autovetture per regioni / New car registrations by regions
B4: Elaborazioni dell'Area Studi e Statistiche di ANFIA su dati del MinMinistero delle Infrastrutture e della Mobilità sostenibili (Aut.Min D07161/H4),
B5: ='PC FUEL'!B5 -> successive alla pubblicazione del comunicato stampa (Aggiornamento 30.08.2025)
A7: Volumi | B7: TOTALE 2024 | C7: TOTALE 2025 | D7: Var % 25/24 | E7: 2025-01 | F7: 2025-02 | G7: 2025-03 | H7: 2025-04 | I7: 2025-05 | J7: 2025-06 | K7: 2025-07 | L7: 2025-08 | M7: 2025-09 | N7: 2025-10 | O7: 2025-11 | P7: 2025-12 | Q7: 2026-01 | R7: 2026-02 | S7: 2026-03 | T7: 2026-04 | U7: 2026-05 | V7: 2026-06 | W7: 2026-07 | X7: 2026-08 | Y7: 2026-09 | Z7: 2026-10 | AA7: 2026-11 | AB7: 2026-12 | AC7: Gen-ago 2025 | AD7: Gen-ago 2026 | AE7: Var % ago 26/25 | AF7: Var % 26/25
A8: ITALIA NORD-OVEST | B8: 444093 | C8: =SUM(E8:P8) -> 448355 | D8: =(C8-B8)/B8 -> 0.0095970889 | E8: =SUM(E9:E12) -> 38327 | F8: =SUM(F9:F12) -> 40035 | G8: =SUM(G9:G12) -> 48890 | H8: =SUM(H9:H12) -> 40358 | I8: =SUM(I9:I12) -> 42101 | J8: =SUM(J9:J12) -> 39022 | K8: =SUM(K9:K12) -> 36077 | L8: =SUM(L9:L12) -> 19702 | ... AB8: =SUM(AB9:AB12) -> 0 | AC8: =SUM(E8:L8) -> 304512 | AD8: =SUM(Q8:AB8) -> 305125 | AE8: =X8/L8-1 -> -0.013145874 | AF8: =(AD8-AC8)/AC8 -> 0.002013057
A9: VALLE D'AOSTA | B9: 4808 | C9: =SUM(E9:P9) -> 4078 | D9: =(C9-B9)/B9 -> -0.15183028 | E9: 394 | F9: 367 | G9: 425 | H9: 335 | I9: 345 | J9: 413 | K9: 359 | L9: 190 | M9: 394 | N9: 333 | O9: 289 | P9: 234 | Q9: 266 | R9: 400 | S9: 446 | T9: 352 | U9: 758 | V9: 579 | W9: 927 | X9: 275 | AC9: =SUM(E9:L9) -> 2828 | AD9: =SUM(Q9:AB9) -> 4003 | AE9: =X9/L9-1 -> 0.44736842 | AF9: =(AD9-AC9)/AC9 -> 0.41548798
A10: PIEMONTE | B10: 162799 | C10: =SUM(E10:P10) -> 179941 | D10: =(C10-B10)/B10 -> 0.10529549 | E10: 13542 | F10: 16893 | G10: 22886 | H10: 18210 | I10: 18870 | J10: 14874 | K10: 13573 | L10: 7622 | M10: 15337 | N10: 14072 | O10: 12551 | P10: 11511 | Q10: 14940 | R10: 19226 | S10: 21301 | T10: 15258 | U10: 13490 | V10: 15214 | W10: 11035 | X10: 6566 | AC10: =SUM(E10:L10) -> 126470 | AD10: =SUM(Q10:AB10) -> 117030 | AE10: =X10/L10-1 -> -0.13854631 | AF10: =(AD10-AC10)/AC10 -> -0.074642208
A11: LOMBARDIA | B11: 248418 | C11: =SUM(E11:P11) -> 237245 | D11: =(C11-B11)/B11 -> -0.044976612 | E11: 21860 | F11: 20372 | G11: 22953 | H11: 19675 | I11: 20554 | J11: 21542 | K11: 19867 | L11: 10565 | M11: 21262 | N11: 21091 | O11: 20694 | P11: 16810 | Q11: 21957 | R11: 22555 | S11: 25435 | T11: 21702 | U11: 20648 | V11: 21575 | W11: 19757 | X11: 11206 | AC11: =SUM(E11:L11) -> 157388 | AD11: =SUM(Q11:AB11) -> 164835 | AE11: =X11/L11-1 -> 0.06067203 | AF11: =(AD11-AC11)/AC11 -> 0.047316187
A12: LIGURIA | B12: 28068 | C12: =SUM(E12:P12) -> 27091 | D12: =(C12-B12)/B12 -> -0.034808323 | E12: 2531 | F12: 2403 | G12: 2626 | H12: 2138 | I12: 2332 | J12: 2193 | K12: 2278 | L12: 1325 | M12: 2595 | N12: 2474 | O12: 2375 | P12: 1821 | Q12: 2660 | R12: 2664 | S12: 2836 | T12: 2490 | U12: 2607 | V12: 2397 | W12: 2207 | X12: 1396 | AC12: =SUM(E12:L12) -> 17826 | AD12: =SUM(Q12:AB12) -> 19257 | AE12: =X12/L12-1 -> 0.053584906 | AF12: =(AD12-AC12)/AC12 -> 0.080276001
A13: ITALIA NORD-EST | B13: 489424 | C13: =SUM(E13:P13) -> 448292 | D13: =(C13-B13)/B13 -> -0.084041649 | E13: =SUM(E14:E17) -> 38441 | F13: =SUM(F14:F17) -> 40733 | G13: =SUM(G14:G17) -> 61406 | H13: =SUM(H14:H17) -> 47780 | I13: =SUM(I14:I17) -> 44472 | J13: =SUM(J14:J17) -> 37724 | K13: =SUM(K14:K17) -> 29972 | L13: =SUM(L14:L17) -> 18091 | ... AB13: =SUM(AB14:AB17) -> 0 | AC13: =SUM(E13:L13) -> 318619 | AD13: =SUM(Q13:AB13) -> 351093 | AE13: =X13/L13-1 -> -0.028467194 | AF13: =(AD13-AC13)/AC13 -> 0.1019211
A14: FRIULI | B14: 23688 | C14: =SUM(E14:P14) -> 21499 | D14: =(C14-B14)/B14 -> -0.092409659 | E14: 2112 | F14: 1918 | G14: 2004 | H14: 1812 | I14: 1767 | J14: 1818 | K14: 1801 | L14: 1146 | M14: 1785 | N14: 1834 | O14: 1873 | P14: 1629 | Q14: 2131 | R14: 2039 | S14: 2355 | T14: 2001 | U14: 2039 | V14: 2047 | W14: 1881 | X14: 1195 | AC14: =SUM(E14:L14) -> 14378 | AD14: =SUM(Q14:AB14) -> 15688 | AE14: =X14/L14-1 -> 0.042757417 | AF14: =(AD14-AC14)/AC14 -> 0.09111142
A15: TRENTINO ALTO ADIGE | B15: 227084 | C15: =SUM(E15:P15) -> 205386 | D15: =(C15-B15)/B15 -> -0.095550545 | E15: 14979 | F15: 19178 | G15: 38261 | H15: 28345 | I15: 24429 | J15: 17024 | K15: 9476 | L15: 6121 | M15: 11984 | N15: 10733 | O15: 12274 | P15: 12582 | Q15: 19875 | R15: 29319 | S15: 36514 | T15: 31629 | U15: 25946 | V15: 19660 | W15: 9632 | X15: 4660 | AC15: =SUM(E15:L15) -> 157813 | AD15: =SUM(Q15:AB15) -> 177235 | AE15: =X15/L15-1 -> -0.23868649 | AF15: =(AD15-AC15)/AC15 -> 0.12306971
A16: VENETO | B16: 105910 | C16: =SUM(E16:P16) -> 102702 | D16: =(C16-B16)/B16 -> -0.030289869 | E16: 9337 | F16: 8838 | G16: 9693 | H16: 8015 | I16: 8550 | J16: 8875 | K16: 8873 | L16: 5097 | M16: 9201 | N16: 9489 | O16: 9108 | P16: 7626 | Q16: 9861 | R16: 9834 | S16: 10840 | T16: 9507 | U16: 9317 | V16: 9498 | W16: 9446 | X16: 5700 | AC16: =SUM(E16:L16) -> 67278 | AD16: =SUM(Q16:AB16) -> 74003 | AE16: =X16/L16-1 -> 0.11830489 | AF16: =(AD16-AC16)/AC16 -> 0.099958382
A17: EMILIA ROMAGNA | B17: 132742 | C17: =SUM(E17:P17) -> 118705 | D17: =(C17-B17)/B17 -> -0.10574649 | E17: 12013 | F17: 10799 | G17: 11448 | H17: 9608 | I17: 9726 | J17: 10007 | K17: 9822 | L17: 5727 | M17: 10354 | N17: 10447 | O17: 10219 | P17: 8535 | Q17: 11232 | R17: 10742 | S17: 12605 | T17: 10932 | U17: 10750 | V17: 11344 | W17: 10541 | X17: 6021 | AC17: =SUM(E17:L17) -> 79150 | AD17: =SUM(Q17:AB17) -> 84167 | AE17: =X17/L17-1 -> 0.051335778 | AF17: =(AD17-AC17)/AC17 -> 0.063385976
A18: ITALIA CENTRO | B18: 378604 | C18: =SUM(E18:P18) -> 404132 | D18: =(C18-B18)/B18 -> 0.067426652 | E18: =SUM(E19:E22) -> 34713 | F18: =SUM(F19:F22) -> 37349 | G18: =SUM(G19:G22) -> 41115 | H18: =SUM(H19:H22) -> 33572 | I18: =SUM(I19:I22) -> 34547 | J18: =SUM(J19:J22) -> 36266 | K18: =SUM(K19:K22) -> 33335 | L18: =SUM(L19:L22) -> 18898 | ... AB18: =SUM(AB19:AB22) -> 0 | AC18: =SUM(E18:L18) -> 269795 | AD18: =SUM(Q18:AB18) -> 292445 | AE18: =X18/L18-1 -> 0.097523547 | AF18: =(AD18-AC18)/AC18 -> 0.083952631
A19: TOSCANA | B19: 179733 | C19: =SUM(E19:P19) -> 169054 | D19: =(C19-B19)/B19 -> -0.059415911 | E19: 15408 | F19: 15238 | G19: 17013 | H19: 14125 | I19: 13639 | J19: 14954 | K19: 14159 | L19: 8047 | M19: 14673 | N19: 15060 | O19: 14005 | P19: 12733 | Q19: 16308 | R19: 15155 | S19: 16978 | T19: 14537 | U19: 15572 | V19: 15934 | W19: 14534 | X19: 8380 | AC19: =SUM(E19:L19) -> 112583 | AD19: =SUM(Q19:AB19) -> 117398 | AE19: =X19/L19-1 -> 0.041381881 | AF19: =(AD19-AC19)/AC19 -> 0.042768446
A20: UMBRIA | B20: 18331 | C20: =SUM(E20:P20) -> 17105 | D20: =(C20-B20)/B20 -> -0.066881239 | E20: 1709 | F20: 1467 | G20: 1592 | H20: 1335 | I20: 1469 | J20: 1412 | K20: 1406 | L20: 815 | M20: 1480 | N20: 1540 | O20: 1571 | P20: 1309 | Q20: 1654 | R20: 1597 | S20: 1845 | T20: 1478 | U20: 1559 | V20: 1630 | W20: 1522 | X20: 883 | AC20: =SUM(E20:L20) -> 11205 | AD20: =SUM(Q20:AB20) -> 12168 | AE20: =X20/L20-1 -> 0.083435583 | AF20: =(AD20-AC20)/AC20 -> 0.085943775
A21: MARCHE | B21: 29077 | C21: =SUM(E21:P21) -> 27290 | D21: =(C21-B21)/B21 -> -0.061457509 | E21: 2599 | F21: 2350 | G21: 2698 | H21: 2144 | I21: 2311 | J21: 2207 | K21: 2240 | L21: 1378 | M21: 2408 | N21: 2474 | O21: 2346 | P21: 2135 | Q21: 2519 | R21: 2556 | S21: 2978 | T21: 2455 | U21: 2586 | V21: 2552 | W21: 2397 | X21: 1397 | AC21: =SUM(E21:L21) -> 17927 | AD21: =SUM(Q21:AB21) -> 19440 | AE21: =X21/L21-1 -> 0.013788099 | AF21: =(AD21-AC21)/AC21 -> 0.084397836
A22: LAZIO | B22: 151463 | C22: =SUM(E22:P22) -> 190683 | D22: =(C22-B22)/B22 -> 0.25894113 | E22: 14997 | F22: 18294 | G22: 19812 | H22: 15968 | I22: 17128 | J22: 17693 | K22: 15530 | L22: 8658 | M22: 16273 | N22: 16377 | O22: 16469 | P22: 13484 | Q22: 17118 | R22: 16953 | S22: 23550 | T22: 19375 | U22: 19625 | V22: 19166 | W22: 17571 | X22: 10081 | AC22: =SUM(E22:L22) -> 128080 | AD22: =SUM(Q22:AB22) -> 143439 | AE22: =X22/L22-1 -> 0.16435666 | AF22: =(AD22-AC22)/AC22 -> 0.11991724
A23: ITALIA SUD-ISOLE | B23: 245950 | C23: =SUM(E23:P23) -> 223877 | D23: =(C23-B23)/B23 -> -0.089745883 | E23: =SUM(E24:E31) -> 22160 | F23: =SUM(F24:F31) -> 19805 | G23: =SUM(G24:G31) -> 20818 | H23: =SUM(H24:H31) -> 17350 | I23: =SUM(I24:I31) -> 18280 | J23: =SUM(J24:J31) -> 19359 | K23: =SUM(K24:K31) -> 19130 | L23: =SUM(L24:L31) -> 10588 | ... AB23: =SUM(AB24:AB31) -> 0 | AC23: =SUM(E23:L23) -> 147490 | AD23: =SUM(Q23:AB23) -> 180105 | AE23: =X23/L23-1 -> 0.10124669 | AF23: =(AD23-AC23)/AC23 -> 0.22113364
A24: ABRUZZO | B24: 24196 | C24: =SUM(E24:P24) -> 21270 | D24: =(C24-B24)/B24 -> -0.12092908 | E24: 2062 | F24: 1903 | G24: 2215 | H24: 1726 | I24: 1739 | J24: 1717 | K24: 1762 | L24: 1010 | M24: 1823 | N24: 1841 | O24: 1836 | P24: 1636 | Q24: 2053 | R24: 2029 | S24: 2272 | T24: 1934 | U24: 1923 | V24: 2033 | W24: 1732 | X24: 1117 | AC24: =SUM(E24:L24) -> 14134 | AD24: =SUM(Q24:AB24) -> 15093 | AE24: =X24/L24-1 -> 0.10594059 | AF24: =(AD24-AC24)/AC24 -> 0.067850573
A25: BASILICATA | B25: 7451 | C25: =SUM(E25:P25) -> 6296 | D25: =(C25-B25)/B25 -> -0.15501275 | E25: 602 | F25: 539 | G25: 564 | H25: 440 | I25: 489 | J25: 495 | K25: 575 | L25: 346 | M25: 572 | N25: 571 | O25: 562 | P25: 541 | Q25: 617 | R25: 686 | S25: 683 | T25: 664 | U25: 653 | V25: 673 | W25: 612 | X25: 334 | AC25: =SUM(E25:L25) -> 4050 | AD25: =SUM(Q25:AB25) -> 4922 | AE25: =X25/L25-1 -> -0.034682081 | AF25: =(AD25-AC25)/AC25 -> 0.21530864
A26: CAMPANIA | B26: 61881 | C26: =SUM(E26:P26) -> 52539 | D26: =(C26-B26)/B26 -> -0.15096718 | E26: 5452 | F26: 4944 | G26: 4730 | H26: 4072 | I26: 4314 | J26: 4823 | K26: 4436 | L26: 2132 | M26: 4199 | N26: 4377 | O26: 4771 | P26: 4289 | Q26: 5086 | R26: 6443 | S26: 6525 | T26: 5821 | U26: 6974 | V26: 6228 | W26: 5098 | X26: 2334 | AC26: =SUM(E26:L26) -> 34903 | AD26: =SUM(Q26:AB26) -> 44509 | AE26: =X26/L26-1 -> 0.094746717 | AF26: =(AD26-AC26)/AC26 -> 0.2752199
A27: MOLISE | B27: 4118 | C27: =SUM(E27:P27) -> 3294 | D27: =(C27-B27)/B27 -> -0.20009713 | E27: 271 | F27: 295 | G27: 305 | H27: 243 | I27: 229 | J27: 423 | K27: 476 | L27: 141 | M27: 222 | N27: 243 | O27: 235 | P27: 211 | Q27: 275 | R27: 242 | S27: 291 | T27: 276 | U27: 356 | V27: 270 | W27: 921 | X27: 170 | AC27: =SUM(E27:L27) -> 2383 | AD27: =SUM(Q27:AB27) -> 2801 | AE27: =X27/L27-1 -> 0.20567376 | AF27: =(AD27-AC27)/AC27 -> 0.17540915
A28: PUGLIA | B28: 42396 | C28: =SUM(E28:P28) -> 39307 | D28: =(C28-B28)/B28 -> -0.072860647 | E28: 3787 | F28: 3441 | G28: 3639 | H28: 2905 | I28: 3195 | J28: 3363 | K28: 3239 | L28: 1830 | M28: 3555 | N28: 3595 | O28: 3690 | P28: 3068 | Q28: 3832 | R28: 4232 | S28: 4375 | T28: 4098 | U28: 4388 | V28: 4143 | W28: 3620 | X28: 2104 | AC28: =SUM(E28:L28) -> 25399 | AD28: =SUM(Q28:AB28) -> 30792 | AE28: =X28/L28-1 -> 0.14972678 | AF28: =(AD28-AC28)/AC28 -> 0.21233119
A29: CALABRIA | B29: 24821 | C29: =SUM(E29:P29) -> 23156 | D29: =(C29-B29)/B29 -> -0.067080295 | E29: 2385 | F29: 2016 | G29: 2172 | H29: 1782 | I29: 1952 | J29: 1950 | K29: 1935 | L29: 1177 | M29: 2018 | N29: 2057 | O29: 1973 | P29: 1739 | Q29: 2272 | R29: 2322 | S29: 2505 | T29: 2031 | U29: 2288 | V29: 2368 | W29: 2140 | X29: 1320 | AC29: =SUM(E29:L29) -> 15369 | AD29: =SUM(Q29:AB29) -> 17246 | AE29: =X29/L29-1 -> 0.12149533 | AF29: =(AD29-AC29)/AC29 -> 0.12212896
A30: SICILIA | B30: 59382 | C30: =SUM(E30:P30) -> 57756 | D30: =(C30-B30)/B30 -> -0.027382035 | E30: 5708 | F30: 5020 | G30: 5225 | H30: 4454 | I30: 4501 | J30: 4924 | K30: 4993 | L30: 2895 | M30: 4910 | N30: 5058 | O30: 5405 | P30: 4663 | Q30: 5525 | R30: 6103 | S30: 7701 | T30: 6460 | U30: 6488 | V30: 7118 | W30: 5738 | X30: 3136 | AC30: =SUM(E30:L30) -> 37720 | AD30: =SUM(Q30:AB30) -> 48269 | AE30: =X30/L30-1 -> 0.083246978 | AF30: =(AD30-AC30)/AC30 -> 0.27966596
A31: SARDEGNA | B31: 21705 | C31: =SUM(E31:P31) -> 20259 | D31: =(C31-B31)/B31 -> -0.066620594 | E31: 1893 | F31: 1647 | G31: 1968 | H31: 1728 | I31: 1861 | J31: 1664 | K31: 1714 | L31: 1057 | M31: 1693 | N31: 1728 | O31: 1770 | P31: 1536 | Q31: 1795 | R31: 2230 | S31: 3118 | T31: 2178 | U31: 2085 | V31: 2076 | W31: 1846 | X31: 1145 | AC31: =SUM(E31:L31) -> 13532 | AD31: =SUM(Q31:AB31) -> 16473 | AE31: =X31/L31-1 -> 0.083254494 | AF31: =(AD31-AC31)/AC31 -> 0.21733668
A32: TOTALE | B32: 1558071 | C32: =SUM(E32:P32) -> 1524656 | D32: =(C32-B32)/B32 -> -0.021446391 | E32: =+E23+E18+E13+E8 -> 133641 | F32: =+F23+F18+F13+F8 -> 137922 | G32: =+G23+G18+G13+G8 -> 172229 | H32: =+H23+H18+H13+H8 -> 139060 | I32: =+I23+I18+I13+I8 -> 139400 | J32: =+J23+J18+J13+J8 -> 132371 | K32: =+K23+K18+K13+K8 -> 118514 | L32: =+L23+L18+L13+L8 -> 67279 | ... AB32: =+AB23+AB18+AB13+AB8 -> 0 | AC32: =SUM(E32:L32) -> 1040416 | AD32: =SUM(Q32:AB32) -> 1128768 | AE32: =X32/L32-1 -> 0.031822708 | AF32: =(AD32-AC32)/AC32 -> 0.084919878
A35: Quote % | B35: =B7 -> TOTALE 2024 | C35: =C7 -> TOTALE 2025 | E35: =E7 -> 2025-01 | F35: =F7 -> 2025-02 | G35: =G7 -> 2025-03 | H35: =H7 -> 2025-04 | I35: =I7 -> 2025-05 | J35: =J7 -> 2025-06 | K35: =K7 -> 2025-07 | L35: =L7 -> 2025-08 | ... AD35: =AD7 -> Gen-ago 2026
A36: ITALIA NORD-OVEST | B36: =B8/B$32*100 -> 28.502745 | C36: =C8/C$32*100 -> 29.406961 | E36: =E8/E$32*100 -> 28.679073 | F36: =F8/F$32*100 -> 29.027276 | G36: =G8/G$32*100 -> 28.386625 | H36: =H8/H$32*100 -> 29.022005 | I36: =I8/I$32*100 -> 30.201578 | J36: =J8/J$32*100 -> 29.479267 | K36: =K8/K$32*100 -> 30.441129 | L36: =L8/L$32*100 -> 29.284026 | ... AD36: =AD8/AD$32*100 -> 27.031684
A37: VALLE D'AOSTA | B37: =B9/B$32*100 -> 0.30858671 | C37: =C9/C$32*100 -> 0.26747017 | E37: =E9/E$32*100 -> 0.2948197 | F37: =F9/F$32*100 -> 0.26609243 | G37: =G9/G$32*100 -> 0.24676448 | H37: =H9/H$32*100 -> 0.24090321 | I37: =I9/I$32*100 -> 0.24748924 | J37: =J9/J$32*100 -> 0.31200187 | K37: =K9/K$32*100 -> 0.3029178 | L37: =L9/L$32*100 -> 0.2824061 | ... AD37: =AD9/AD$32*100 -> 0.35463443
A38: PIEMONTE | B38: =B10/B$32*100 -> 10.448754 | C38: =C10/C$32*100 -> 11.802072 | E38: =E10/E$32*100 -> 10.133118 | F38: =F10/F$32*100 -> 12.248227 | G38: =G10/G$32*100 -> 13.288122 | H38: =H10/H$32*100 -> 13.095067 | I38: =I10/I$32*100 -> 13.536585 | J38: =J10/J$32*100 -> 11.2366 | K38: =K10/K$32*100 -> 11.452655 | L38: =L10/L$32*100 -> 11.328944 | ... AD38: =AD10/AD$32*100 -> 10.367941
A39: LOMBARDIA | B39: =B11/B$32*100 -> 15.943946 | C39: =C11/C$32*100 -> 15.560559 | E39: =E11/E$32*100 -> 16.357256 | F39: =F11/F$32*100 -> 14.770667 | G39: =G11/G$32*100 -> 13.327024 | H39: =H11/H$32*100 -> 14.148569 | I39: =I11/I$32*100 -> 14.74462 | J39: =J11/J$32*100 -> 16.273957 | K39: =K11/K$32*100 -> 16.76342 | L39: =L11/L$32*100 -> 15.703266 | ... AD39: =AD11/AD$32*100 -> 14.603089
A40: LIGURIA | B40: =B12/B$32*100 -> 1.8014583 | C40: =C12/C$32*100 -> 1.7768598 | E40: =E12/E$32*100 -> 1.8938799 | F40: =F12/F$32*100 -> 1.7422891 | G40: =G12/G$32*100 -> 1.5247142 | H40: =H12/H$32*100 -> 1.5374658 | I40: =I12/I$32*100 -> 1.6728838 | J40: =J12/J$32*100 -> 1.6567073 | K40: =K12/K$32*100 -> 1.9221358 | L40: =L12/L$32*100 -> 1.969411 | ... AD40: =AD12/AD$32*100 -> 1.7060193
A41: ITALIA NORD-EST | B41: =B13/B$32*100 -> 31.412176 | C41: =C13/C$32*100 -> 29.402829 | E41: =E13/E$32*100 -> 28.764376 | F41: =F13/F$32*100 -> 29.533359 | G41: =G13/G$32*100 -> 35.653694 | H41: =H13/H$32*100 -> 34.359269 | I41: =I13/I$32*100 -> 31.902439 | J41: =J13/J$32*100 -> 28.498689 | K41: =K13/K$32*100 -> 25.289839 | L41: =L13/L$32*100 -> 26.88952 | ... AD41: =AD13/AD$32*100 -> 31.104089
A42: FRIULI | B42: =B14/B$32*100 -> 1.5203415 | C42: =C14/C$32*100 -> 1.4100886 | E42: =E14/E$32*100 -> 1.5803533 | F42: =F14/F$32*100 -> 1.3906411 | G42: =G14/G$32*100 -> 1.1635671 | H42: =H14/H$32*100 -> 1.3030347 | I42: =I14/I$32*100 -> 1.2675753 | J42: =J14/J$32*100 -> 1.3734126 | K42: =K14/K$32*100 -> 1.5196517 | L42: =L14/L$32*100 -> 1.7033547 | ... AD42: =AD14/AD$32*100 -> 1.3898339
A43: TRENTINO ALTO ADIGE | B43: =B15/B$32*100 -> 14.574689 | C43: =C15/C$32*100 -> 13.470973 | E43: =E15/E$32*100 -> 11.208387 | F43: =F15/F$32*100 -> 13.904961 | G43: =G15/G$32*100 -> 22.21519 | H43: =H15/H$32*100 -> 20.383288 | I43: =I15/I$32*100 -> 17.52439 | J43: =J15/J$32*100 -> 12.860823 | K43: =K15/K$32*100 -> 7.9956798 | L43: =L15/L$32*100 -> 9.0979355 | ... AD43: =AD15/AD$32*100 -> 15.701632
A44: VENETO | B44: =B16/B$32*100 -> 6.7975079 | C44: =C16/C$32*100 -> 6.7360769 | E44: =E16/E$32*100 -> 6.9866284 | F44: =F16/F$32*100 -> 6.4079697 | G44: =G16/G$32*100 -> 5.6279721 | H44: =H16/H$32*100 -> 5.7636991 | I44: =I16/I$32*100 -> 6.133429 | J44: =J16/J$32*100 -> 6.7046407 | K44: =K16/K$32*100 -> 7.4868792 | L44: =L16/L$32*100 -> 7.5759152 | ... AD44: =AD16/AD$32*100 -> 6.5560859
A45: EMILIA ROMAGNA | B45: =B17/B$32*100 -> 8.5196374 | C45: =C17/C$32*100 -> 7.7856907 | E45: =E17/E$32*100 -> 8.9890079 | F45: =F17/F$32*100 -> 7.8297879 | G45: =G17/G$32*100 -> 6.6469642 | H45: =H17/H$32*100 -> 6.9092478 | I45: =I17/I$32*100 -> 6.9770445 | J45: =J17/J$32*100 -> 7.5598129 | K45: =K17/K$32*100 -> 8.2876285 | L45: =L17/L$32*100 -> 8.5123144 | ... AD45: =AD17/AD$32*100 -> 7.4565367
A46: ITALIA CENTRO | B46: =B18/B$32*100 -> 24.299534 | C46: =C18/C$32*100 -> 26.506438 | E46: =E18/E$32*100 -> 25.974813 | F46: =F18/F$32*100 -> 27.079799 | G46: =G18/G$32*100 -> 23.872286 | H46: =H18/H$32*100 -> 24.142097 | I46: =I18/I$32*100 -> 24.78264 | J46: =J18/J$32*100 -> 27.39724 | K46: =K18/K$32*100 -> 28.127479 | L46: =L18/L$32*100 -> 28.089003 | ... AD46: =AD18/AD$32*100 -> 25.908335
A47: TOSCANA | B47: =B19/B$32*100 -> 11.53561 | C47: =C19/C$32*100 -> 11.088009 | E47: =E19/E$32*100 -> 11.529396 | F47: =F19/F$32*100 -> 11.048274 | G47: =G19/G$32*100 -> 9.8781274 | H47: =H19/H$32*100 -> 10.157486 | I47: =I19/I$32*100 -> 9.7840746 | J47: =J19/J$32*100 -> 11.297036 | K47: =K19/K$32*100 -> 11.947112 | L47: =L19/L$32*100 -> 11.960642 | ... AD47: =AD19/AD$32*100 -> 10.400543
... A60: TOTALE | B60: =B32/B$32*100 -> 100 | C60: =C32/C$32*100 -> 100 | E60: =E32/E$32*100 -> 100 | F60: =F32/F$32*100 -> 100 | G60: =G32/G$32*100 -> 100 | H60: =H32/H$32*100 -> 100 | I60: =I32/I$32*100 -> 100 | J60: =J32/J$32*100 -> 100 | K60: =K32/K$32*100 -> 100 | L60: =L32/L$32*100 -> 100 | ... AD60: =AD32/AD$32*100 -> 100

Sheet PC OWNER_FUEL
B3: ITALIA - | C3: Immatricolazioni di Autovetture intestate a Privati / New Privates Car registrations by fuel
B4: Elaborazioni dell'Area Studi e Statistiche di ANFIA su dati del MinMinistero delle Infrastrutture e della Mobilità sostenibili (Aut.Min D07161/H4),
B5: ='PC FUEL'!B5 -> successive alla pubblicazione del comunicato stampa (Aggiornamento 30.08.2025)
A7: Volumi | B7: TOTALE 2024 | C7: TOTALE 2025 | D7: Var % 25/24 | E7: 2025-01 | F7: 2025-02 | G7: 2025-03 | H7: 2025-04 | I7: 2025-05 | J7: 2025-06 | K7: 2025-07 | L7: 2025-08 | M7: 2025-09 | N7: 2025-10 | O7: 2025-11 | P7: 2025-12 | Q7: 2026-01 | R7: 2026-02 | S7: 2026-03 | T7: 2026-04 | U7: 2026-05 | V7: 2026-06 | W7: 2026-07 | X7: 2026-08 | Y7: 2026-09 | Z7: 2026-10 | AA7: 2026-11 | AB7: 2026-12 | AC7: Gen-ago 2025 | AD7: Gen-ago 2026 | AE7: Var % ago 26/25 | AF7: Var % 26/25
A8: BENZINA/Petrol | B8: 295039 | C8: =SUM(E8:P8) -> 208235 | D8: =(C8-B8)/B8*100 -> -29.421195 | E8: 24318 | F8: 20440 | G8: 20157 | H8: 18100 | I8: 18768 | J8: 16832 | K8: 17222 | L8: 10296 | M8: 17908 | N8: 17879 | O8: 14618 | P8: 11697 | Q8: 16603 | R8: 17117 | S8: 18965 | T8: 15632 | U8: 15996 | V8: 15225 | W8: 14336 | X8: 8652 | AC8: =SUM(E8:L8) -> 146133 | AD8: =SUM(Q8:AB8) -> 122526 | AE8: =X8/L8-1 -> -0.15967366 | AF8: =(AD8-AC8)/AC8 -> -0.16154462
A9: DIESEL | B9: 64725 | C9: =SUM(E9:P9) -> 42180 | D9: =(C9-B9)/B9*100 -> -34.831981 | E9: 4172 | F9: 4265 | G9: 4660 | H9: 3446 | I9: 3872 | J9: 3677 | K9: 3447 | L9: 1719 | M9: 3158 | N9: 3555 | O9: 3177 | P9: 3032 | Q9: 3076 | R9: 2954 | S9: 2909 | T9: 2325 | U9: 2232 | V9: 2427 | W9: 2143 | X9: 1112 | AC9: =SUM(E9:L9) -> 29258 | AD9: =SUM(Q9:AB9) -> 19178 | AE9: =X9/L9-1 -> -0.35311227 | AF9: =(AD9-AC9)/AC9 -> -0.34452116
A10: BIODIESEL | B10: 111 | C10: =SUM(E10:P10) -> 57 | D10: - | E10: 14 | F10: 18 | G10: 6 | H10: 1 | I10: 2 | J10: 2 | K10: 2 | L10: 1 | M10: 2 | N10: 5 | O10: 3 | P10: 1 | Q10: 2 | R10: 3 | S10: 0 | T10: 1 | U10: 0 | V10: 0 | W10: 1 | X10: 0 | AC10: =SUM(E10:L10) -> 46 | AD10: =SUM(Q10:AB10) -> 7 | AE10: =X10/L10-1 -> -1 | AF10: =(AD10-AC10)/AC10 -> -0.84782609
A11: GAS | B11: 134803 | C11: =SUM(E11:P11) -> 119233 | D11: =(C11-B11)/B11*100 -> -11.550188 | E11: =SUM(E12:E13) -> 13007 | F11: =SUM(F12:F13) -> 12947 | G11: =SUM(G12:G13) -> 12041 | H11: =SUM(H12:H13) -> 9516 | I11: =SUM(I12:I13) -> 9790 | J11: =SUM(J12:J13) -> 9580 | K11: =SUM(K12:K13) -> 10545 | L11: =SUM(L12:L13) -> 5715 | ... AB11: =SUM(AB12:AB13) -> 0 | AC11: =SUM(E11:L11) -> 83141 | AD11: =SUM(Q11:AB11) -> 66426 | AE11: =X11/L11-1 -> -0.061592301 | AF11: =(AD11-AC11)/AC11 -> -0.20104401
A12: - GPL/LPG | B12: 134011 | C12: =SUM(E12:P12) -> 119233 | D12: =(C12-B12)/B12*100 -> -11.027453 | E12: 13007 | F12: 12947 | G12: 12041 | H12: 9516 | I12: 9790 | J12: 9580 | K12: 10545 | L12: 5715 | M12: 9615 | N12: 10216 | O12: 9033 | P12: 7228 | Q12: 7784 | R12: 5837 | S12: 8349 | T12: 7938 | U12: 8909 | V12: 10579 | W12: 11667 | X12: 5363 | AC12: =SUM(E12:L12) -> 83141 | AD12: =SUM(Q12:AB12) -> 66426 | AE12: =X12/L12-1 -> -0.061592301 | AF12: =(AD12-AC12)/AC12 -> -0.20104401
A13: - METANO/CNG | B13: 792 | C13: =SUM(E13:P13) -> 0 | D13: =(C13-B13)/B13*100 -> -100 | E13: 0 | F13: 0 | G13: 0 | H13: 0 | I13: 0 | J13: 0 | K13: 0 | L13: 0 | M13: 0 | N13: 0 | O13: 0 | P13: 0 | Q13: 0 | R13: 0 | S13: 0 | T13: 0 | U13: 0 | V13: 0 | W13: 0 | X13: 0 | Y13: 0 | Z13: 0 | AA13: 0 | AB13: 0 | AC13: =SUM(E13:K13) -> 0 | AD13: =SUM(Q13:AB13) -> 0 | AE13: - | AF13: -
A14: IBRIDE mild-full/Hev | B14: 340282 | C14: =SUM(E14:P14) -> 357699 | D14: =(C14-B14)/B14*100 -> 5.1184018 | E14: =SUM(E15:E17) -> 36632 | F14: =SUM(F15:F17) -> 31092 | G14: =SUM(G15:G17) -> 35039 | H14: =SUM(H15:H17) -> 28446 | I14: =SUM(I15:I17) -> 29905 | J14: =SUM(J15:J17) -> 29975 | K14: =SUM(K15:K17) -> 29639 | L14: =SUM(L15:L17) -> 15799 | ... AB14: =SUM(AB15:AB17) -> 0 | AC14: =SUM(E14:L14) -> 236527 | AD14: =SUM(Q14:AB14) -> 299392 | AE14: =X14/L14-1 -> 0.15887081 | AF14: =(AD14-AC14)/AC14 -> 0.26578361
A15: - IBRIDA BE/Petrol-Electric | B15: 322507 | C15: =SUM(E15:P15) -> 339024 | D15: =(C15-B15)/B15*100 -> 5.1214392 | E15: 34800 | F15: 29509 | G15: 33012 | H15: 26845 | I15: 28234 | J15: 28381 | K15: 27975 | L15: 14892 | M15: 31628 | N15: 31658 | O15: 27226 | P15: 24864 | Q15: 41445 | R15: 41139 | S15: 45703 | T15: 37520 | U15: 36777 | V15: 35308 | W15: 33277 | X15: 17557 | AC15: =SUM(E15:L15) -> 223648 | AD15: =SUM(Q15:AB15) -> 288726 | AE15: =X15/L15-1 -> 0.17895514 | AF15: =(AD15-AC15)/AC15 -> 0.29098405
A16: - IBRIDA GE/Diesel-Electric | B16: 17676 | C16: =SUM(E16:P16) -> 18220 | D16: =(C16-B16)/B16*100 -> 3.0776194 | E16: 1791 | F16: 1555 | G16: 1995 | H16: 1507 | I16: 1615 | J16: 1559 | K16: 1639 | L16: 883 | M16: 1470 | N16: 1531 | O16: 1383 | P16: 1292 | Q16: 1493 | R16: 1313 | S16: 1385 | T16: 1112 | U16: 1128 | V16: 1023 | W16: 984 | X16: 490 | AC16: =SUM(E16:L16) -> 12544 | AD16: =SUM(Q16:AB16) -> 8928 | AE16: =X16/L16-1 -> -0.44507361 | AF16: =(AD16-AC16)/AC16 -> -0.28826531
A17: - IBRIDA BE-GPL/Petrol-Electric-GPL | B17: 99 | C17: =SUM(E17:P17) -> 455 | D17: - | E17: 41 | F17: 28 | G17: 32 | H17: 94 | I17: 56 | J17: 35 | K17: 25 | L17: 24 | M17: 39 | N17: 30 | O17: 23 | P17: 28 | Q17: 36 | R17: 25 | S17: 54 | T17: 60 | U17: 368 | V17: 417 | W17: 516 | X17: 262 | AC17: =SUM(E17:L17) -> 335 | AD17: =SUM(Q17:AB17) -> 1738 | AE17: =X17/L17-1 -> 9.9166667 | AF17: =(AD17-AC17)/AC17 -> 4.1880597
A18: RICARICABILI/Rechargeable | B18: 40596 | C18: =SUM(E18:P18) -> 65470 | D18: =(C18-B18)/B18*100 -> 61.272047 | E18: =SUM(E19:E20) -> 3795 | F18: =SUM(F19:F20) -> 3741 | G18: =SUM(G19:G20) -> 5395 | H18: =SUM(H19:H20) -> 3644 | I18: =SUM(I19:I20) -> 4178 | J18: =SUM(J19:J20) -> 4648 | K18: =SUM(K19:K20) -> 3677 | L18: =SUM(L19:L20) -> 2351 | ... AB18: =SUM(AB19:AB20) -> 0 | AC18: =SUM(E18:L18) -> 31429 | AD18: =SUM(Q18:AB18) -> 79699 | AE18: =X18/L18-1 -> 0.52615908 | AF18: =(AD18-AC18)/AC18 -> 1.5358427
A19: - ELETTRICA/Electric | B19: 25725 | C19: =SUM(E19:P19) -> 43292 | D19: =(C19-B19)/B19*100 -> 68.287658 | E19: 2411 | F19: 2331 | G19: 3413 | H19: 1874 | I19: 2144 | J19: 2546 | K19: 1810 | L19: 1202 | M19: 2550 | N19: 2446 | O19: 12003 | P19: 8562 | Q19: 6069 | R19: 9212 | S19: 11328 | T19: 8187 | U19: 8843 | V19: 8298 | W19: 2837 | X19: 1635 | AC19: =SUM(E19:L19) -> 17731 | AD19: =SUM(Q19:AB19) -> 56409 | AE19: =X19/L19-1 -> 0.36023295 | AF19: =(AD19-AC19)/AC19 -> 2.1813772
A20: - PHEV/Plug-in Hybrid | B20: 14871 | C20: =SUM(E20:P20) -> 22178 | D20: =(C20-B20)/B20*100 -> 49.135902 | E20: 1384 | F20: 1410 | G20: 1982 | H20: 1770 | I20: 2034 | J20: 2102 | K20: 1867 | L20: 1149 | M20: 2262 | N20: 2128 | O20: 1950 | P20: 2140 | Q20: 2387 | R20: 2447 | S20: 3448 | T20: 3141 | U20: 3375 | V20: 3207 | W20: 3332 | X20: 1953 | AC20: =SUM(E20:L20) -> 13698 | AD20: =SUM(Q20:AB20) -> 23290 | AE20: =X20/L20-1 -> 0.6997389 | AF20: =(AD20-AC20)/AC20 -> 0.70024821
A21: IDROGENO/Hydrogen | B21: 0 | C21: =SUM(E21:P21) -> 0 | D21: - | E21: 0 | F21: 0 | G21: 0 | H21: 0 | I21: 0 | J21: 0 | K21: 0 | L21: 0 | M21: 0 | N21: 0 | O21: 0 | P21: 0 | Q21: 0 | R21: 0 | S21: 0 | T21: 0 | U21: 0 | V21: 0 | W21: 0 | X21: 0 | AC21: =SUM(E21:L21) -> 0 | AD21: =SUM(Q21:AB21) -> 0 | AE21: - | AF21: -
A22: TOTALE | B22: 875556 | C22: =SUM(E22:P22) -> 792874 | D22: =(C22-B22)/B22*100 -> -9.4433708 | E22: =E9+E8+E11+E14+E18+E21+E10 -> 81938 | F22: =F9+F8+F11+F14+F18+F21+F10 -> 72503 | G22: =G9+G8+G11+G14+G18+G21+G10 -> 77298 | H22: =H9+H8+H11+H14+H18+H21+H10 -> 63153 | I22: =I9+I8+I11+I14+I18+I21+I10 -> 66515 | J22: =J9+J8+J11+J14+J18+J21+J10 -> 64714 | K22: =K9+K8+K11+K14+K18+K21+K10 -> 64532 | L22: =L9+L8+L11+L14+L18+L21+L10 -> 35881 | ... AB22: =AB9+AB8+AB11+AB14+AB18+AB21+AB10 -> 0 | AC22: =SUM(E22:L22) -> 526534 | AD22: =SUM(Q22:AB22) -> 587228 | AE22: =X22/L22-1 -> 0.031855299 | AF22: =(AD22-AC22)/AC22 -> 0.11527081
A24: TOTALE ALIM. ALTERN. | B24: 515792 | C24: =SUM(E24:P24) -> 542459 | D24: =(C24-B24)/B24*100 -> 5.1701073 | E24: =E11+E14+E18+E21+E10 -> 53448 | F24: =F11+F14+F18+F21+F10 -> 47798 | G24: =G11+G14+G18+G21+G10 -> 52481 | H24: =H11+H14+H18+H21+H10 -> 41607 | I24: =I11+I14+I18+I21+I10 -> 43875 | J24: =J11+J14+J18+J21+J10 -> 44205 | K24: =K11+K14+K18+K21+K10 -> 43863 | L24: =L11+L14+L18+L21+L10 -> 23866 | ... Z24: =Z11+Z14+Z18+Z21+Z10 -> 0 | AA24: =AA10+AA11+AA14+AA18+AA21 -> 0 | AB24: =AB11+AB14+AB18+AB21 -> 0 | AC24: =SUM(E24:L24) -> 351143 | AD24: =SUM(Q24:AB24) -> 445524 | AE24: =X24/L24-1 -> 0.14221068 | AF24: =(AD24-AC24)/AC24 -> 0.26878223
A27: Quote % | B27: =B7 -> TOTALE 2024 | C27: =C7 -> TOTALE 2025 | E27: =E7 -> 2025-01 | F27: =F7 -> 2025-02 | G27: =G7 -> 2025-03 | H27: =H7 -> 2025-04 | I27: =I7 -> 2025-05 | J27: =J7 -> 2025-06 | K27: =K7 -> 2025-07 | L27: =L7 -> 2025-08 | ... AD27: =AD7 -> Gen-ago 2026
A28: BENZINA/Petrol | B28: =B8/B$22*100 -> 33.697331 | C28: =C8/C$22*100 -> 26.263315 | E28: =E8/E$22*100 -> 29.678537 | F28: =F8/F$22*100 -> 28.191937 | G28: =G8/G$22*100 -> 26.077001 | H28: =H8/H$22*100 -> 28.660555 | I28: =I8/I$22*100 -> 28.216192 | J28: =J8/J$22*100 -> 26.009828 | K28: =K8/K$22*100 -> 26.687535 | L28: =L8/L$22*100 -> 28.694852 | ... AD28: =AD8/AD$22*100 -> 20.865149
A29: DIESEL | B29: =B9/B$22*100 -> 7.3924455 | C29: =C9/C$22*100 -> 5.3198869 | E29: =E9/E$22*100 -> 5.0916547 | F29: =F9/F$22*100 -> 5.8825152 | G29: =G9/G$22*100 -> 6.0286165 | H29: =H9/H$22*100 -> 5.4565896 | I29: =I9/I$22*100 -> 5.8212433 | J29: =J9/J$22*100 -> 5.6819235 | K29: =K9/K$22*100 -> 5.341536 | L29: =L9/L$22*100 -> 4.7908364 | ... AD29: =AD9/AD$22*100 -> 3.2658524
A30: BIODIESEL | B30: =B10/B$22*100 -> 0.012677659 | C30: =C10/C$22*100 -> 0.0071890363 | E30: =E10/E$22*100 -> 0.017086089 | F30: =F10/F$22*100 -> 0.024826559 | G30: =G10/G$22*100 -> 0.0077621672 | H30: =H10/H$22*100 -> 0.0015834561 | I30: =I10/I$22*100 -> 0.0030068406 | J30: =J10/J$22*100 -> 0.0030905214 | K30: =K10/K$22*100 -> 0.0030992376 | L30: =L10/L$22*100 -> 0.0027869903 | ... AD30: =AD10/AD$22*100 -> 0.0011920413
A31: GAS | B31: =B11/B$22*100 -> 15.396274 | C31: =C11/C$22*100 -> 15.038077 | E31: =E11/E$22*100 -> 15.874198 | F31: =F11/F$22*100 -> 17.857192 | G31: =G11/G$22*100 -> 15.577376 | H31: =H11/H$22*100 -> 15.068168 | I31: =I11/I$22*100 -> 14.718485 | J31: =J11/J$22*100 -> 14.803597 | K31: =K11/K$22*100 -> 16.34073 | L31: =L11/L$22*100 -> 15.92765 | ... AD31: =AD11/AD$22*100 -> 11.31179
A32: - GPL/LPG | B32: =B12/B$22*100 -> 15.305817 | C32: =C12/C$22*100 -> 15.038077 | E32: =E12/E$22*100 -> 15.874198 | F32: =F12/F$22*100 -> 17.857192 | G32: =G12/G$22*100 -> 15.577376 | H32: =H12/H$22*100 -> 15.068168 | I32: =I12/I$22*100 -> 14.718485 | J32: =J12/J$22*100 -> 14.803597 | K32: =K12/K$22*100 -> 16.34073 | L32: =L12/L$22*100 -> 15.92765 | ... AD32: =AD12/AD$22*100 -> 11.31179
A33: - METANO/CNG | B33: =B13/B$22*100 -> 0.090456807 | C33: =C13/C$22*100 -> 0 | E33: =E13/E$22*100 -> 0 | F33: =F13/F$22*100 -> 0 | G33: =G13/G$22*100 -> 0 | H33: =H13/H$22*100 -> 0 | I33: =I13/I$22*100 -> 0 | J33: =J13/J$22*100 -> 0 | K33: =K13/K$22*100 -> 0 | L33: =L13/L$22*100 -> 0 | ... AD33: =AD13/AD$22*100 -> 0
A34: IBRIDE mild-full/Hev | B34: =B14/B$22*100 -> 38.864676 | C34: =C14/C$22*100 -> 45.11423 | E34: =E14/E$22*100 -> 44.706974 | F34: =F14/F$22*100 -> 42.883743 | G34: =G14/G$22*100 -> 45.329763 | H34: =H14/H$22*100 -> 45.042991 | I34: =I14/I$22*100 -> 44.959784 | J34: =J14/J$22*100 -> 46.319189 | K34: =K14/K$22*100 -> 45.929151 | L34: =L14/L$22*100 -> 44.03166 | ... AD34: =AD14/AD$22*100 -> 50.983945
A35: - IBRIDA BE/Petrol-Electric | B35: =B15/B$22*100 -> 36.834537 | C35: =C15/C$22*100 -> 42.758875 | E35: =E15/E$22*100 -> 42.471137 | F35: =F15/F$22*100 -> 40.700385 | G35: =G15/G$22*100 -> 42.707444 | H35: =H15/H$22*100 -> 42.507878 | I35: =I15/I$22*100 -> 42.447568 | J35: =J15/J$22*100 -> 43.856044 | K35: =K15/K$22*100 -> 43.350586 | L35: =L15/L$22*100 -> 41.50386 | ... AD35: =AD15/AD$22*100 -> 49.167615
A36: - IBRIDA GE/Diesel-Electric | B36: =B16/B$22*100 -> 2.0188315 | C36: =C16/C$22*100 -> 2.2979692 | E36: =E16/E$22*100 -> 2.185799 | F36: =F16/F$22*100 -> 2.1447388 | G36: =G16/G$22*100 -> 2.5809206 | H36: =H16/H$22*100 -> 2.3862683 | I36: =I16/I$22*100 -> 2.4280238 | J36: =J16/J$22*100 -> 2.4090614 | K36: =K16/K$22*100 -> 2.5398252 | L36: =L16/L$22*100 -> 2.4609125 | ... AD36: =AD16/AD$22*100 -> 1.5203635
A37: - IBRIDA BE-GPL/Petrol-Electric-GPL | B37: =B17/B$22*100 -> 0.011307101 | C37: =C17/C$22*100 -> 0.057386167 | E37: =E17/E$22*100 -> 0.050037833 | F37: =F17/F$22*100 -> 0.038619092 | G37: =G17/G$22*100 -> 0.041398225 | H37: =H17/H$22*100 -> 0.14884487 | I37: =I17/I$22*100 -> 0.084191536 | J37: =J17/J$22*100 -> 0.054084124 | K37: =K17/K$22*100 -> 0.03874047 | L37: =L17/L$22*100 -> 0.066887768 | ... AD37: =AD17/AD$22*100 -> 0.29596681
A38: RICARICABILI/Rechargeable | B38: =B18/B$22*100 -> 4.6365966 | C38: =C18/C$22*100 -> 8.2573019 | E38: =E18/E$22*100 -> 4.6315507 | F38: =F18/F$22*100 -> 5.1597865 | G38: =G18/G$22*100 -> 6.979482 | H38: =H18/H$22*100 -> 5.7701139 | I38: =I18/I$22*100 -> 6.2812899 | J38: =J18/J$22*100 -> 7.1823717 | K38: =K18/K$22*100 -> 5.6979483 | L38: =L18/L$22*100 -> 6.5522143 | ... AD38: =AD18/AD$22*100 -> 13.572071
A39: - ELETTRICA/Electric | B39: =B19/B$22*100 -> 2.938133 | C39: =C19/C$22*100 -> 5.4601362 | E39: =E19/E$22*100 -> 2.9424687 | F39: =F19/F$22*100 -> 3.2150394 | G39: =G19/G$22*100 -> 4.4153794 | H39: =H19/H$22*100 -> 2.9673966 | I39: =I19/I$22*100 -> 3.2233331 | J39: =J19/J$22*100 -> 3.9342337 | K39: =K19/K$22*100 -> 2.80481 | L39: =L19/L$22*100 -> 3.3499624 | ... AD39: =AD19/AD$22*100 -> 9.6059793
... A44: TOTALE ALIM. ALTERN. | B44: =B24/B$22*100 -> 58.910224 | C44: =C24/C$22*100 -> 68.416798 | E44: =E24/E$22*100 -> 65.229808 | F44: =F24/F$22*100 -> 65.925548 | G44: =G24/G$22*100 -> 67.894383 | H44: =H24/H$22*100 -> 65.882856 | I44: =I24/I$22*100 -> 65.962565 | J44: =J24/J$22*100 -> 68.308249 | K44: =K24/K$22*100 -> 67.970929 | L44: =L24/L$22*100 -> 66.514311 | ... AD44: =AD24/AD$22*100 -> 75.868998
B49: Elaborazioni dell'Area Studi e Statistiche di ANFIA su dati del Ministero delle Infrastrutture e dei Trasporti (Aut.Min D07161/H4),
B50: =B5 -> successive alla pubblicazione del comunicato stampa (Aggiornamento 30.08.2025)
A52: Volumi | B52: =B7 -> TOTALE 2024 | C52: =C7 -> TOTALE 2025 | D52: =D7 -> Var % 25/24 | E52: =E7 -> 2025-01 | F52: =F7 -> 2025-02 | G52: =G7 -> 2025-03 | H52: =H7 -> 2025-04 | I52: =I7 -> 2025-05 | ... AF52: =AF7 -> Var % 26/25
A53: BENZINA/Petrol | B53: 157079 | C53: =SUM(E53:P53) -> 163804 | D53: =(C53-B53)/B53*100 -> 4.2812852 | E53: 11443 | F53: 15721 | G53: 25865 | H53: 19883 | I53: 17184 | J53: 14535 | K53: 10285 | L53: 6339 | M53: 10732 | N53: 11039 | O53: 11513 | P53: 9265 | Q53: 10041 | R53: 14829 | S53: 18511 | T53: 16123 | U53: 14771 | V53: 11323 | W53: 9278 | X53: 5404 | AC53: =SUM(E53:L53) -> 121255 | AD53: =SUM(Q53:AB53) -> 100280 | AE53: =X53/L53-1 -> -0.14749961 | AF53: =(AD53-AC53)/AC53 -> -0.17298256
A54: DIESEL | B54: 194437 | C54: =SUM(E54:P54) -> 105101 | D54: =(C54-B54)/B54*100 -> -45.945988 | E54: 8620 | F54: 9386 | G54: 13438 | H54: 10876 | I54: 10478 | J54: 9981 | K54: 8089 | L54: 3904 | M54: 8115 | N54: 8147 | O54: 7165 | P54: 6902 | Q54: 7653 | R54: 7651 | S54: 9724 | T54: 8799 | U54: 7870 | V54: 7149 | W54: 5924 | X54: 2908 | AC54: =SUM(E54:L54) -> 74772 | AD54: =SUM(Q54:AB54) -> 57678 | AE54: =X54/L54-1 -> -0.25512295 | AF54: =(AD54-AC54)/AC54 -> -0.22861499
A55: BIODIESEL | B55: 12 | C55: =SUM(E55:P55) -> 79 | D55: - | E55: 19 | F55: 17 | G55: 4 | H55: 5 | I55: 5 | J55: 5 | K55: 3 | L55: 2 | M55: 6 | N55: 3 | O55: 3 | P55: 7 | Q55: 2 | R55: 3 | S55: 3 | T55: 1 | U55: 0 | V55: 0 | W55: 0 | X55: 0 | AC55: =SUM(E55:L55) -> 60 | AD55: =SUM(Q55:AB55) -> 9 | AE55: =X55/L55-1 -> -1 | AF55: =(AD55-AC55)/AC55 -> -0.85
A56: GAS | B56: 20494 | C56: =SUM(E56:P56) -> 21285 | D56: =(C56-B56)/B56*100 -> 3.8596662 | E56: =SUM(E57:E58) -> 819 | F56: =SUM(F57:F58) -> 899 | G56: =SUM(G57:G58) -> 1252 | H56: =SUM(H57:H58) -> 1573 | I56: =SUM(I57:I58) -> 2835 | J56: =SUM(J57:J58) -> 3081 | K56: =SUM(K57:K58) -> 1763 | L56: =SUM(L57:L58) -> 931 | ... AB56: =SUM(AB57:AB58) -> 0 | AC56: =SUM(E56:L56) -> 13153 | AD56: =SUM(Q56:AB56) -> 12224 | AE56: =X56/L56-1 -> -0.15037594 | AF56: =(AD56-AC56)/AC56 -> -0.070630274
A57: - GPL/LPG | B57: 19698 | C57: =SUM(E57:P57) -> 21285 | D57: =(C57-B57)/B57*100 -> 8.0566555 | E57: 819 | F57: 899 | G57: 1252 | H57: 1573 | I57: 2835 | J57: 3081 | K57: 1763 | L57: 931 | M57: 2168 | N57: 2007 | O57: 1963 | P57: 1994 | Q57: 1352 | R57: 2015 | S57: 1536 | T57: 1439 | U57: 1492 | V57: 2110 | W57: 1489 | X57: 791 | AC57: =SUM(E57:L57) -> 13153 | AD57: =SUM(Q57:AB57) -> 12224 | AE57: =X57/L57-1 -> -0.15037594 | AF57: =(AD57-AC57)/AC57 -> -0.070630274
A58: - METANO/CNG | B58: 796 | C58: =SUM(E58:P58) -> 0 | D58: =(C58-B58)/B58*100 -> -100 | E58: 0 | F58: 0 | G58: 0 | H58: 0 | I58: 0 | J58: 0 | K58: 0 | L58: 0 | M58: 0 | N58: 0 | O58: 0 | P58: 0 | Q58: 0 | R58: 0 | S58: 0 | T58: 0 | U58: 0 | V58: 0 | W58: 0 | AC58: =SUM(E58:K58) -> 0 | AD58: =SUM(Q58:AB58) -> 0 | AE58: - | AF58: -
A59: IBRIDE mild-full/Hev | B59: 259322 | C59: =SUM(E59:P59) -> 313849 | D59: =(C59-B59)/B59*100 -> 21.026754 | E59: =SUM(E60:E62) -> 22902 | F59: =SUM(F60:F62) -> 29984 | G59: =SUM(G60:G62) -> 42511 | H59: =SUM(H60:H62) -> 32518 | I59: =SUM(I60:I62) -> 30442 | J59: =SUM(J60:J62) -> 27036 | K59: =SUM(K60:K62) -> 22678 | L59: =SUM(L60:L62) -> 14436 | ... AB59: =SUM(AB60:AB62) -> 0 | AC59: =SUM(E59:L59) -> 222507 | AD59: =SUM(Q59:AB59) -> 253870 | AE59: =X59/L59-1 -> -0.029024661 | AF59: =(AD59-AC59)/AC59 -> 0.14095287
A60: - IBRIDA BE/Petrol-Electric | B60: 198909 | C60: =SUM(E60:P60) -> 252037 | D60: =(C60-B60)/B60*100 -> 26.709701 | E60: 16997 | F60: 24766 | G60: 35771 | H60: 26981 | I60: 25418 | J60: 21813 | K60: 17598 | L60: 11426 | M60: 18825 | N60: 18641 | O60: 18979 | P60: 14822 | Q60: 26124 | R60: 33753 | S60: 39047 | T60: 31656 | U60: 25909 | V60: 24858 | W60: 19074 | X60: 11769 | AC60: =SUM(E60:L60) -> 180770 | AD60: =SUM(Q60:AB60) -> 212190 | AE60: =X60/L60-1 -> 0.030019254 | AF60: =(AD60-AC60)/AC60 -> 0.17381203
A61: - IBRIDA GE/Diesel-Electric | B61: 60413 | C61: =SUM(E61:P61) -> 61674 | D61: =(C61-B61)/B61*100 -> 2.0872991 | E61: 5900 | F61: 5213 | G61: 6726 | H61: 5521 | I61: 5013 | J61: 5210 | K61: 5073 | L61: 3004 | M61: 5023 | N61: 5003 | O61: 4982 | P61: 5006 | Q61: 5256 | R61: 5428 | S61: 7030 | T61: 5821 | U61: 5854 | V61: 5452 | W61: 4076 | X61: 2206 | AC61: =SUM(E61:L61) -> 41660 | AD61: =SUM(Q61:AB61) -> 41123 | AE61: =X61/L61-1 -> -0.26564581 | AF61: =(AD61-AC61)/AC61 -> -0.012890062
A62: - IBRIDA BE-GPL/Petrol-Electric-GPL | B62: 0 | C62: =SUM(E62:P62) -> 138 | D62: - | E62: 5 | F62: 5 | G62: 14 | H62: 16 | I62: 11 | J62: 13 | K62: 7 | L62: 6 | M62: 16 | N62: 14 | O62: 15 | P62: 16 | Q62: 14 | R62: 47 | S62: 67 | T62: 67 | U62: 139 | V62: 93 | W62: 88 | X62: 42 | AC62: =SUM(E62:L62) -> 77 | AD62: =SUM(Q62:AB62) -> 557 | AE62: =X62/L62-1 -> 6 | AF62: =(AD62-AC62)/AC62 -> 6.2337662
A63: RICARICABILI/Rechargeable | B63: 92042 | C63: =SUM(E63:P63) -> 127663 | D63: =(C63-B63)/B63*100 -> 38.70081 | E63: =SUM(E64:E65) -> 7900 | F63: =SUM(F64:F65) -> 9412 | G63: =SUM(G64:G65) -> 11861 | H63: =SUM(H64:H65) -> 11052 | I63: =SUM(I64:I65) -> 11940 | J63: =SUM(J64:J65) -> 13019 | K63: =SUM(K64:K65) -> 11164 | L63: =SUM(L64:L65) -> 5786 | ... AB63: =SUM(AB64:AB65) -> 0 | AC63: =SUM(E63:L63) -> 82134 | AD63: =SUM(Q63:AB63) -> 117478 | AE63: =X63/L63-1 -> 0.60318009 | AF63: =(AD63-AC63)/AC63 -> 0.43032118
A64: - ELETTRICA/Electric | B64: 42116 | C64: =SUM(E64:P64) -> 51331 | D64: =(C64-B64)/B64*100 -> 21.880046 | E64: 4287 | F64: 4587 | G64: 5954 | H64: 4765 | I64: 4974 | J64: 5424 | K64: 4039 | L64: 2095 | M64: 4612 | N64: 3824 | O64: 3258 | P64: 3512 | Q64: 3355 | R64: 3329 | S64: 4797 | T64: 5017 | U64: 4427 | V64: 6574 | W64: 4458 | X64: 2799 | AC64: =SUM(E64:L64) -> 36125 | AD64: =SUM(Q64:AB64) -> 34756 | AE64: =X64/L64-1 -> 0.33603819 | AF64: =(AD64-AC64)/AC64 -> -0.037896194
A65: - PHEV/Plug-in Hybrid | B65: 49926 | C65: =SUM(E65:P65) -> 76332 | D65: =(C65-B65)/B65*100 -> 52.890278 | E65: 3613 | F65: 4825 | G65: 5907 | H65: 6287 | I65: 6966 | J65: 7595 | K65: 7125 | L65: 3691 | M65: 8609 | N65: 7268 | O65: 6722 | P65: 7724 | Q65: 9283 | R65: 10225 | S65: 12297 | T65: 10339 | U65: 11962 | V65: 12462 | W65: 9677 | X65: 6477 | AC65: =SUM(E65:L65) -> 46009 | AD65: =SUM(Q65:AB65) -> 82722 | AE65: =X65/L65-1 -> 0.75480899 | AF65: =(AD65-AC65)/AC65 -> 0.79795257
A66: IDROGENO/Hydrogen | B66: 2 | C66: =SUM(E66:P66) -> 1 | D66: - | E66: 0 | F66: 0 | G66: 0 | H66: 0 | I66: 1 | J66: 0 | K66: 0 | L66: 0 | M66: 0 | N66: 0 | O66: 0 | P66: 0 | Q66: 1 | R66: 0 | S66: 0 | T66: 0 | U66: 0 | V66: 0 | W66: 0 | X66: 0 | AC66: =SUM(E66:L66) -> 1 | AD66: =SUM(Q66:AB66) -> 1 | AE66: - | AF66: -
A67: TOTALE | B67: 723388 | C67: =SUM(E67:P67) -> 731782 | D67: =(C67-B67)/B67*100 -> 1.1603731 | E67: =E54+E53+E56+E59+E63+E66+E55 -> 51703 | F67: =F54+F53+F56+F59+F63+F66+F55 -> 65419 | G67: =G54+G53+G56+G59+G63+G66+G55 -> 94931 | H67: =H54+H53+H56+H59+H63+H66+H55 -> 75907 | I67: =I54+I53+I56+I59+I63+I66+I55 -> 72885 | J67: =J54+J53+J56+J59+J63+J66+J55 -> 67657 | K67: =K54+K53+K56+K59+K63+K66+K55 -> 53982 | L67: =L54+L53+L56+L59+L63+L66+L55 -> 31398 | ... AB67: =AB54+AB53+AB56+AB59+AB63+AB66+AB55 -> 0 | AC67: =SUM(E67:L67) -> 513882 | AD67: =SUM(Q67:AB67) -> 541540 | AE67: =X67/L67-1 -> 0.031785464 | AF67: =(AD67-AC67)/AC67 -> 0.053821694
A69: TOTALE ALIM. ALTERN. | B69: 371872 | C69: =C56+C59+C63+C66+C55 -> 462877 | D69: =(C69-B69)/B69*100 -> 24.47213 | E69: =E56+E59+E63+E66+E55 -> 31640 | F69: =F56+F59+F63+F66+F55 -> 40312 | G69: =G56+G59+G63+G66+G55 -> 55628 | H69: =H56+H59+H63+H66+H55 -> 45148 | I69: =I56+I59+I63+I66+I55 -> 45223 | J69: =J56+J59+J63+J66+J55 -> 43141 | K69: =K56+K59+K63+K66+K55 -> 35608 | L69: =L56+L59+L63+L66+L55 -> 21155 | ... AB69: =AB56+AB59+AB63+AB66+AB55 -> 0 | AC69: =SUM(E69:L69) -> 317855 | AD69: =SUM(Q69:AB69) -> 383582 | AE69: =X69/L69-1 -> 0.13845427 | AF69: =(AD69-AC69)/AC69 -> 0.20678297
A71: Quote % | B71: =B7 -> TOTALE 2024 | C71: =C7 -> TOTALE 2025 | E71: =E7 -> 2025-01 | F71: =F7 -> 2025-02 | G71: =G7 -> 2025-03 | H71: =H7 -> 2025-04 | I71: =I7 -> 2025-05 | J71: =J7 -> 2025-06 | K71: =K7 -> 2025-07 | L71: =L7 -> 2025-08 | ... AD71: =AD7 -> Gen-ago 2026
A72: BENZINA/Petrol | B72: =B53/B$67*100 -> 21.71435 | C72: =C53/C$67*100 -> 22.384262 | E72: =E53/E$67*100 -> 22.132178 | F72: =F53/F$67*100 -> 24.031245 | G72: =G53/G$67*100 -> 27.246105 | H72: =H53/H$67*100 -> 26.193895 | I72: =I53/I$67*100 -> 23.576868 | J72: =J53/J$67*100 -> 21.483365 | K72: =K53/K$67*100 -> 19.052647 | L72: =L53/L$67*100 -> 20.189184 | ... AD72: =AD53/AD$67*100 -> 18.517561
A73: DIESEL | B73: =B54/B$67*100 -> 26.87866 | C73: =C54/C$67*100 -> 14.362337 | E73: =E54/E$67*100 -> 16.672147 | F73: =F54/F$67*100 -> 14.347514 | G73: =G54/G$67*100 -> 14.155545 | H73: =H54/H$67*100 -> 14.328059 | I73: =I54/I$67*100 -> 14.376072 | J73: =J54/J$67*100 -> 14.752354 | K73: =K54/K$67*100 -> 14.984625 | L73: =L54/L$67*100 -> 12.433913 | ... AD73: =AD54/AD$67*100 -> 10.650737
A74: BIODIESEL | B74: =B55/B$67*100 -> 0.0016588608 | C74: =C55/C$67*100 -> 0.010795565 | E74: =E55/E$67*100 -> 0.036748351 | F74: =F55/F$67*100 -> 0.025986334 | G74: =G55/G$67*100 -> 0.0042135867 | H74: =H55/H$67*100 -> 0.0065870078 | I74: =I55/I$67*100 -> 0.0068601221 | J74: =J55/J$67*100 -> 0.0073902183 | K74: =K55/K$67*100 -> 0.005557408 | L74: =L55/L$67*100 -> 0.0063698325 | ... AD74: =AD55/AD$67*100 -> 0.0016619271
A75: GAS | B75: =B56/B$67*100 -> 2.8330578 | C75: =C56/C$67*100 -> 2.9086531 | E75: =E56/E$67*100 -> 1.5840473 | F75: =F56/F$67*100 -> 1.3742185 | G75: =G56/G$67*100 -> 1.3188526 | H75: =H56/H$67*100 -> 2.0722726 | I75: =I56/I$67*100 -> 3.8896892 | J75: =J56/J$67*100 -> 4.5538525 | K75: =K56/K$67*100 -> 3.2659034 | L75: =L56/L$67*100 -> 2.965157 | ... AD75: =AD56/AD$67*100 -> 2.2572663
A76: - GPL/LPG | B76: =B57/B$67*100 -> 2.72302 | C76: =C57/C$67*100 -> 2.9086531 | E76: =E57/E$67*100 -> 1.5840473 | F76: =F57/F$67*100 -> 1.3742185 | G76: =G57/G$67*100 -> 1.3188526 | H76: =H57/H$67*100 -> 2.0722726 | I76: =I57/I$67*100 -> 3.8896892 | J76: =J57/J$67*100 -> 4.5538525 | K76: =K57/K$67*100 -> 3.2659034 | L76: =L57/L$67*100 -> 2.965157 | ... AD76: =AD57/AD$67*100 -> 2.2572663
A77: - METANO/CNG | B77: =B58/B$67*100 -> 0.11003777 | C77: =C58/C$67*100 -> 0 | E77: =E58/E$67*100 -> 0 | F77: =F58/F$67*100 -> 0 | G77: =G58/G$67*100 -> 0 | H77: =H58/H$67*100 -> 0 | I77: =I58/I$67*100 -> 0 | J77: =J58/J$67*100 -> 0 | K77: =K58/K$67*100 -> 0 | L77: =L58/L$67*100 -> 0 | ... AD77: =AD58/AD$67*100 -> 0
A78: IBRIDE mild-full/Hev | B78: =B59/B$67*100 -> 35.848258 | C78: =C59/C$67*100 -> 42.888319 | E78: =E59/E$67*100 -> 44.295302 | F78: =F59/F$67*100 -> 45.833779 | G78: =G59/G$67*100 -> 44.780946 | H78: =H59/H$67*100 -> 42.839264 | I78: =I59/I$67*100 -> 41.767167 | J78: =J59/J$67*100 -> 39.960388 | K78: =K59/K$67*100 -> 42.0103 | L78: =L59/L$67*100 -> 45.977451 | ... AD78: =AD59/AD$67*100 -> 46.87927
A79: - IBRIDA BE/Petrol-Electric | B79: =B60/B$67*100 -> 27.496862 | C79: =C60/C$67*100 -> 34.441541 | E79: =E60/E$67*100 -> 32.874301 | F79: =F60/F$67*100 -> 37.857503 | G79: =G60/G$67*100 -> 37.681053 | H79: =H60/H$67*100 -> 35.544811 | I79: =I60/I$67*100 -> 34.874117 | J79: =J60/J$67*100 -> 32.240566 | K79: =K60/K$67*100 -> 32.599755 | L79: =L60/L$67*100 -> 36.390853 | ... AD79: =AD60/AD$67*100 -> 39.182701
A80: - IBRIDA GE/Diesel-Electric | B80: =B61/B$67*100 -> 8.3513965 | C80: =C61/C$67*100 -> 8.4279198 | E80: =E61/E$67*100 -> 11.41133 | F80: =F61/F$67*100 -> 7.968633 | G80: =G61/G$67*100 -> 7.0851461 | H80: =H61/H$67*100 -> 7.273374 | I80: =I61/I$67*100 -> 6.8779584 | J80: =J61/J$67*100 -> 7.7006075 | K80: =K61/K$67*100 -> 9.397577 | L80: =L61/L$67*100 -> 9.5674884 | ... AD80: =AD61/AD$67*100 -> 7.5937142
A81: - IBRIDA BE-GPL/Petrol-Electric-GPL | B81: =B62/B$67*100 -> 0 | C81: =C62/C$67*100 -> 0.018858075 | E81: =E62/E$67*100 -> 0.0096706187 | F81: =F62/F$67*100 -> 0.0076430395 | G81: =G62/G$67*100 -> 0.014747553 | H81: =H62/H$67*100 -> 0.021078425 | I81: =I62/I$67*100 -> 0.015092269 | J81: =J62/J$67*100 -> 0.019214568 | K81: =K62/K$67*100 -> 0.012967285 | L81: =L62/L$67*100 -> 0.019109497 | ... AD81: =AD62/AD$67*100 -> 0.10285482
A82: RICARICABILI/Rechargeable | B82: =B63/B$67*100 -> 12.723739 | C82: =C63/C$67*100 -> 17.445496 | E82: =E63/E$67*100 -> 15.279578 | F82: =F63/F$67*100 -> 14.387258 | G82: =G63/G$67*100 -> 12.494338 | H82: =H63/H$67*100 -> 14.559922 | I82: =I63/I$67*100 -> 16.381972 | J82: =J63/J$67*100 -> 19.24265 | K82: =K63/K$67*100 -> 20.680968 | L82: =L63/L$67*100 -> 18.427925 | ... AD82: =AD63/AD$67*100 -> 21.693319
A83: - ELETTRICA/Electric | B83: =B64/B$67*100 -> 5.8220485 | C83: =C64/C$67*100 -> 7.0145207 | E83: =E64/E$67*100 -> 8.2915885 | F83: =F64/F$67*100 -> 7.0117244 | G83: =G64/G$67*100 -> 6.2719238 | H83: =H64/H$67*100 -> 6.2774184 | I83: =I64/I$67*100 -> 6.8244495 | J83: =J64/J$67*100 -> 8.0169088 | K83: =K64/K$67*100 -> 7.4821237 | L83: =L64/L$67*100 -> 6.6723995 | ... AD83: =AD64/AD$67*100 -> 6.4179931
... A88: Quota ALIM.ALTERN | B88: =B69/B$67*100 -> 51.40699 | C88: =C69/C$67*100 -> 63.253401 | E88: =E69/E$67*100 -> 61.195675 | F88: =F69/F$67*100 -> 61.621242 | G88: =G69/G$67*100 -> 58.59835 | H88: =H69/H$67*100 -> 59.478046 | I88: =I69/I$67*100 -> 62.04706 | J88: =J69/J$67*100 -> 63.764282 | K88: =K69/K$67*100 -> 65.962728 | L88: =L69/L$67*100 -> 67.376903 | ... AD88: =AD69/AD$67*100 -> 70.831702
B89: * Include Società, Taxi, Noleggio, Leasing Persone Fisiche, Leasing Persone Giuridiche, Enti Pubblici
B90: *Includes Business, Leasing, Taxi, Renting, Public Authorities

Sheet check
A3: ='PC FUEL'!E22 -> 133641 | B3: ='PC FUEL'!F22 -> 137922 | C3: ='PC FUEL'!G22 -> 172229 | D3: ='PC FUEL'!H22 -> 139060 | E3: ='PC FUEL'!I22 -> 139400 | F3: ='PC FUEL'!J22 -> 132371 | G3: ='PC FUEL'!K22 -> 118514 | H3: ='PC FUEL'!L22 -> 67279 | ... W3: ='PC FUEL'!AA22 -> 0
A4: ='PC FUEL'!E22-'PC SEGMENT'!E22 -> 0 | B4: ='PC FUEL'!F22-'PC SEGMENT'!F22 -> 0 | C4: ='PC FUEL'!G22-'PC SEGMENT'!G22 -> 0 | D4: ='PC FUEL'!H22-'PC SEGMENT'!H22 -> 0 | E4: ='PC FUEL'!I22-'PC SEGMENT'!I22 -> 0 | F4: ='PC FUEL'!J22-'PC SEGMENT'!J22 -> 0 | G4: ='PC FUEL'!K22-'PC SEGMENT'!K22 -> 0 | H4: ='PC FUEL'!L22-'PC SEGMENT'!L22 -> 0 | ... W4: ='PC FUEL'!AA22-'PC SEGMENT'!AA22 -> 0
A5: ='PC FUEL'!E22-'PC OWNER'!E16 -> 0 | B5: ='PC FUEL'!F22-'PC OWNER'!F16 -> 0 | C5: ='PC FUEL'!G22-'PC OWNER'!G16 -> 0 | D5: ='PC FUEL'!H22-'PC OWNER'!H16 -> 0 | E5: ='PC FUEL'!I22-'PC OWNER'!I16 -> 0 | F5: ='PC FUEL'!J22-'PC OWNER'!J16 -> 0 | G5: ='PC FUEL'!K22-'PC OWNER'!K16 -> 0 | H5: ='PC FUEL'!L22-'PC OWNER'!L16 -> 0 | ... W5: ='PC FUEL'!AA22-'PC OWNER'!AA16 -> 0
A6: ='PC FUEL'!E22-'PC REGION'!E32 -> 0 | B6: ='PC FUEL'!F22-'PC REGION'!F32 -> 0 | C6: ='PC FUEL'!G22-'PC REGION'!G32 -> 0 | D6: ='PC FUEL'!H22-'PC REGION'!H32 -> 0 | E6: ='PC FUEL'!I22-'PC REGION'!I32 -> 0 | F6: ='PC FUEL'!J22-'PC REGION'!J32 -> 0 | G6: ='PC FUEL'!K22-'PC REGION'!K32 -> 0 | H6: ='PC FUEL'!L22-'PC REGION'!L32 -> 0 | ... W6: ='PC FUEL'!AA22-'PC REGION'!AA32 -> 0

Sheet Foglio1
A1: ='PC FUEL'!B22 -> 1567151 | B1: ='PC FUEL'!C22 -> 1524656 | C1: ='PC FUEL'!D22 -> -2.7116085 | D1: ='PC FUEL'!E22 -> 133641 | E1: ='PC FUEL'!F22 -> 137922 | F1: ='PC FUEL'!G22 -> 172229 | G1: ='PC FUEL'!H22 -> 139060 | H1: ='PC FUEL'!I22 -> 139400 | ... AE1: ='PC FUEL'!AF22 -> 0.084919878
A2: ='PC SEGMENT'!B22 -> 1558071 | B2: ='PC SEGMENT'!C22 -> 1524656 | C2: ='PC SEGMENT'!D22 -> -0.021446391 | D2: ='PC SEGMENT'!E22 -> 133641 | E2: ='PC SEGMENT'!F22 -> 137922 | F2: ='PC SEGMENT'!G22 -> 172229 | G2: ='PC SEGMENT'!H22 -> 139060 | H2: ='PC SEGMENT'!I22 -> 139400 | ... AE2: ='PC SEGMENT'!AF22 -> 0.084919878
A3: ='PC OWNER'!B16 -> 1558071 | B3: ='PC OWNER'!C16 -> 1524656 | C3: ='PC OWNER'!D16 -> -0.021446391 | D3: ='PC OWNER'!E16 -> 133641 | E3: ='PC OWNER'!F16 -> 137922 | F3: ='PC OWNER'!G16 -> 172229 | G3: ='PC OWNER'!H16 -> 139060 | H3: ='PC OWNER'!I16 -> 139400 | ... AE3: ='PC OWNER'!AF16 -> 0.084919878
A4: ='PC REGION'!B32 -> 1558071 | B4: ='PC REGION'!C32 -> 1524656 | C4: ='PC REGION'!D32 -> -0.021446391 | D4: ='PC REGION'!E32 -> 133641 | E4: ='PC REGION'!F32 -> 137922 | F4: ='PC REGION'!G32 -> 172229 | G4: ='PC REGION'!H32 -> 139060 | H4: ='PC REGION'!I32 -> 139400 | ... AE4: ='PC REGION'!AF32 -> 0.084919878
A5: ='PC OWNER_FUEL'!B67+'PC OWNER_FUEL'!B22 -> 1598944 | B5: ='PC OWNER_FUEL'!C67+'PC OWNER_FUEL'!C22 -> 1524656 | C5: ='PC OWNER_FUEL'!D67+'PC OWNER_FUEL'!D22 -> -8.2829977 | D5: ='PC OWNER_FUEL'!E67+'PC OWNER_FUEL'!E22 -> 133641 | E5: ='PC OWNER_FUEL'!F67+'PC OWNER_FUEL'!F22 -> 137922 | F5: ='PC OWNER_FUEL'!G67+'PC OWNER_FUEL'!G22 -> 172229 | G5: ='PC OWNER_FUEL'!H67+'PC OWNER_FUEL'!H22 -> 139060 | H5: ='PC OWNER_FUEL'!I67+'PC OWNER_FUEL'!I22 -> 139400 | ... AE5: ='PC OWNER_FUEL'!AF67+'PC OWNER_FUEL'!AF22 -> 0.1690925
